BEGIN:VCALENDAR
VERSION:2.0
PRODID:-//Moore Institute - ECPv6.0.0.1//NONSGML v1.0//EN
CALSCALE:GREGORIAN
METHOD:PUBLISH
X-WR-CALNAME:Moore Institute
X-ORIGINAL-URL:https://mooreinstitute.ie
X-WR-CALDESC:Events for Moore Institute
REFRESH-INTERVAL;VALUE=DURATION:PT1H
X-Robots-Tag:noindex
X-PUBLISHED-TTL:PT1H
BEGIN:VTIMEZONE
TZID:Europe/Dublin
BEGIN:STANDARD
TZOFFSETFROM:+0000
TZOFFSETTO:+0100
TZNAME:IST
DTSTART:20220327T010000
END:STANDARD
BEGIN:DAYLIGHT
TZOFFSETFROM:+0100
TZOFFSETTO:+0000
TZNAME:GMT
DTSTART:20221030T010000
END:DAYLIGHT
END:VTIMEZONE
BEGIN:VEVENT
DTSTART;TZID=Europe/Dublin:20220608T150000
DTEND;TZID=Europe/Dublin:20220608T170000
DTSTAMP:20260420T125951
CREATED:20220225T001401Z
LAST-MODIFIED:20220510T144431Z
UID:10913-1654700400-1654707600@mooreinstitute.ie
SUMMARY:Creative Futures Café
DESCRIPTION:The Creative Futures research group is excited to invite you to this in-person gathering\, set up to facilitate a variety of discussions. This World Café style event offers an opportunity to connect with Creative Futures colleagues and work together to explore themes\, topics\, and issues of interest\, including approaches to interdisciplinary research\, creative methodologies\, generating and evaluating creative projects and interventions\, potential funding proposals and more. \nWe will provide refreshments\, along with opportunities for participants to showcase recent work they have done on the Creative Futures space. \nInspired by the World Café format\, the meeting is designed to provide time and space for interaction with colleagues from a variety of disciplines and to explore and identify potential areas of crossover\, cooperation\, and collaboration. This work will take place in small discussion groups and arranged so that you have the chance to interact with different groups and tackle different themes and ideas within the session. \nThere is no need to prepare anything in advance; this is an informal space for discussion\, including\, but not limited to\, the following topics: \n\nWhat does interdisciplinary research look like? How can wo do interdisciplinary research in the College of Arts\, Social Science and Celtic Studies\, and beyond? ​What are the benefits and challenges?\nWhat kinds of research methods can support interdisciplinary approaches?  Are there research methods we can use and develop in the Creative Futures space? How can these contribute to the research we are doing?\nHow can we engage non-academic audiences with our research\, stakeholders including policy makers\, community groups and those working to bring about change?  How do we build those networks and how do we evaluate the results of this kind of engagement?\nWhat funding opportunities exist for these approaches?\n\nRegistration\nPlease register by Monday\, 6th June\, using the link provided below: \nhttps://forms.office.com/r/aTnKw6b2aG \nIf you have any questions about the event\, please contact Dr Orla Lehane orla.lehane@nuigalway.ie or Dr Maria Roca Lizarazu maria.rocalizarazu@nuigalway.ie.
URL:https://mooreinstitute.ie/event/creative-futures-cafe/
LOCATION:THB-G010 Moore Institute Seminar Room\, Hardiman Research Building\, University of Galway
END:VEVENT
END:VCALENDAR