BEGIN:VCALENDAR
VERSION:2.0
PRODID:-//Moore Institute - ECPv6.0.0.1//NONSGML v1.0//EN
CALSCALE:GREGORIAN
METHOD:PUBLISH
X-ORIGINAL-URL:https://mooreinstitute.ie
X-WR-CALDESC:Events for Moore Institute
REFRESH-INTERVAL;VALUE=DURATION:PT1H
X-Robots-Tag:noindex
X-PUBLISHED-TTL:PT1H
BEGIN:VTIMEZONE
TZID:Europe/Dublin
BEGIN:STANDARD
TZOFFSETFROM:+0000
TZOFFSETTO:+0100
TZNAME:IST
DTSTART:20210328T010000
END:STANDARD
BEGIN:DAYLIGHT
TZOFFSETFROM:+0100
TZOFFSETTO:+0000
TZNAME:GMT
DTSTART:20211031T010000
END:DAYLIGHT
END:VTIMEZONE
BEGIN:VEVENT
DTSTART;TZID=Europe/Dublin:20210301T110000
DTEND;TZID=Europe/Dublin:20210301T120000
DTSTAMP:20260424T031625
CREATED:20210224T142202Z
LAST-MODIFIED:20210224T144018Z
UID:9872-1614596400-1614600000@mooreinstitute.ie
SUMMARY:Active* Consent\, USI and GRCC Launch of "Start Here" Social Media Campaign
DESCRIPTION:This campaign empowers college students and staff with basic information to respond to disclosures of sexual violence and harassment. \nJoin us to celebrate the launch of this partnership initiative and learn how to get involved and amplify our “Start Here” message individually and at your institution. \nWe welcome all learning\, working and leading in the higher education sector and our colleagues in the NGO\, sexual violence and rape crisis sectors to join and get involved in “Start Here”! \nFurther Information & Registration\nFor further information and registration\, please visit Eventbrite at: https://www.eventbrite.ie/e/active-consent-usi-and-grcc-launch-of-start-here-social-media-campaign-tickets-142128328657 \n  \nTo learn more about Active* Consent\, USI and GRCC’s work in this area\, visit: \n\nwww.nuigalway.ie/activeconsent\nhttps://usi.ie\nhttps://www.galwayrcc.org
URL:https://mooreinstitute.ie/event/active-consent-usi-and-grcc-launch-of-start-here-social-media-campaign/
LOCATION:Seomra an Droichid\, Institiúid de Móra agus ar Zoom
ATTACH;FMTTYPE=image/jpeg:https://mooreinstitute.ie/wp-content/uploads/2021/02/Start-Here-Eventbrite-Banner-e1614176251312.jpg
ORGANIZER;CN="Charlotte%20McIvor":MAILTO:charlotte.mcivor@nuigalway.ie
END:VEVENT
BEGIN:VEVENT
DTSTART;TZID=Europe/Dublin:20210304T120000
DTEND;TZID=Europe/Dublin:20210304T130000
DTSTAMP:20260424T031625
CREATED:20210224T122231Z
LAST-MODIFIED:20210310T143634Z
UID:9868-1614859200-1614862800@mooreinstitute.ie
SUMMARY:Win\, Lose or Draw? Assessing the EU-UK Trade Agreement
DESCRIPTION:Three leading commentators on European trade\, diplomacy\, and Northern Ireland will analyse the Agreement signed by the EU and UK in December. Who came out on top in the negotiations and how will the Agreement affect the future of Ireland – North and South – the UK and EU?\n\nPanellists \n\n\nKaty Hayward (Prof. of Political Sociology\, Queen’s University Belfast)\n\nDavid O’Sullivan (former EU Ambassador to the United States and Secretary General of the European Commission)\n\nCarlo Trojan (former Secretary General of the European Commission; head of the European Commission Task Force on Northern Ireland; and EU Ambassador to the WTO)\n\nChairs: Prof. Daniel Carey and Prof. Niall Ó Dochartaigh\n\n \nSponsored by the Moore Institute in association with the MA in Public Policy at NUI Galway.\nWebinar Recording\n  \nWatch the recording of this session below\, or on YouTube
URL:https://mooreinstitute.ie/event/win-lose-or-draw-assessing-the-eu-uk-trade-agreement/
LOCATION:Seomra an Droichid\, Institiúid de Móra agus ar Zoom
ATTACH;FMTTYPE=image/jpeg:https://mooreinstitute.ie/wp-content/uploads/2021/02/brexit-3575384_1920.jpg
ORGANIZER;CN="Prof.%20Dan%20Carey":MAILTO:daniel.carey@nuigalway.ie
END:VEVENT
BEGIN:VEVENT
DTSTART;TZID=Europe/Dublin:20210312T140000
DTEND;TZID=Europe/Dublin:20210312T180000
DTSTAMP:20260424T031625
CREATED:20210211T235154Z
LAST-MODIFIED:20210211T235154Z
UID:9856-1615557600-1615572000@mooreinstitute.ie
SUMMARY:Silver Screens: Ageing Masculinities in Anglophone and European Cinema
DESCRIPTION:This webinar is part of an ongoing series of events organized as part of the GenderNet+ mascage project www.mascage.eu \n tickets: https://www.eventbrite.ie/e/silver-screens-ageing-masculinities-in-anglophone-and-european-cinemas-tickets-139834275081 \nin association with: Moore Institute\, NUI Galway \n\nEvent organizers: Tony Tracy [Huston School of Film & Digital Media]; Michaela Schrage-Frueh [Dept of German] NUI Galway irishmascage@gmail.com
URL:https://mooreinstitute.ie/event/silver-screens-ageing-masculinities-in-anglophone-and-european-cinema/
LOCATION:Online
ORGANIZER;CN="Tony%20Tracy":MAILTO:tony.tracy@nuigalway.ie
END:VEVENT
BEGIN:VEVENT
DTSTART;TZID=Europe/Dublin:20210315T150000
DTEND;TZID=Europe/Dublin:20210315T160000
DTSTAMP:20260424T031625
CREATED:20210309T145600Z
LAST-MODIFIED:20210316T101750Z
UID:9882-1615820400-1615824000@mooreinstitute.ie
SUMMARY:The Art of Reimagining: Culture\, Universities\, Cities
DESCRIPTION:Hosted by Moore Institute Director Dan Carey\, this webinar explores the topic of Capitals of Culture: how can universities engage in practice-based arts research and teaching? What are the challenges for Capitals of Culture amidst a global pandemic? Is what we want of cities changed forever? What role do culture and the arts play in the development of local\, pan-European\, and international networks of solidarity? \nPanellists\n\nFlora Carrijn\, Provost of KU Leuven\, who heads the Board of the University Network for European Capitals of Culture\nPatrick Lonergan & Catherine Morris\, co-editors of the University Network of European Capitals of Culture Spring 2021 special issue: Capitals of Culture: The Art of Reimagining\n\nAnanya Rajoo\, artist from Kerala\, India\, and MA student (Production & Curation)\, NUI Galway\n\nSean Ryder\, Head of the School for English and the Creative Arts\, NUI Galway\nEithne Verling\, Director of the Museum of Galway\nKarsten Xuereb\, who led preparations for the European Capital of Culture in Malta (2011-2017)\n\nChair: Daniel Carey\, Moore Institute \nThe webinar also serves as a launch for the University Network of European Capitals of Culture Spring online edition “European Capitals of Culture: The Art of Reimagining” edited by Patrick Lonergan and Catherine Morris. This online journal takes the place of the conference that would have happened in Galway in 2020. \nRegistration\nTo attend please register via: https://us02web.zoom.us/webinar/register/WN_f0VjpOM-SSGN1StvwzdYAg. The session will also be streamed live on the Moore Institute’s YouTube channel at https://www.youtube.com/watch?v=yXmrvs5vuVE \nWebinar Recording
URL:https://mooreinstitute.ie/event/the-art-of-reimagining-culture-universities-cities/
LOCATION:Seomra an Droichid\, Institiúid de Móra agus ar Zoom
ATTACH;FMTTYPE=image/png:https://mooreinstitute.ie/wp-content/uploads/2021/03/2021-03-11_uneecc-webinar-social-image-1.png
END:VEVENT
BEGIN:VEVENT
DTSTART;TZID=Europe/Dublin:20210316T120000
DTEND;TZID=Europe/Dublin:20210316T130000
DTSTAMP:20260424T031625
CREATED:20210310T110313Z
LAST-MODIFIED:20210310T110313Z
UID:9886-1615896000-1615899600@mooreinstitute.ie
SUMMARY:Webinar: Q&A with Neasa Hardiman
DESCRIPTION:The Huston School of Film & Digital Media series on media careers continues next week with a Q&A with director Neasa Hardiman. Neasa is a BAFTA winning film and television director whose credits include Happy Valley\, Jessica Jones and Casualty. She has directed series for BBC\, Netflix and Amazon as well as feature films such as Sea Fever (2019). Neasa will be discussing her career in film and television and the experience of directing big-budget high-profile television series such as the Marvel series Jessica Jones and Inhumans. \nRegistration\nThe talk will take place next Tuesday 16th March at 12pm. Places are limited so please register to attend on Zoom at https://tinyurl.com/27d5jym4. The session will also be streamed on the Moore Institute’s Facebook page at: https://www.facebook.com/mooreinstitute/live
URL:https://mooreinstitute.ie/event/webinar-qa-with-neasa-hardiman/
LOCATION:Seomra an Droichid\, Institiúid de Móra agus ar Zoom
ATTACH;FMTTYPE=image/png:https://mooreinstitute.ie/wp-content/uploads/2021/03/Screenshot-2021-03-10-at-10.56.51.png
ORGANIZER;CN="Conn%20Holohan":MAILTO:conn.holohan@nuigalway.ie
END:VEVENT
BEGIN:VEVENT
DTSTART;TZID=Europe/Dublin:20210318T160000
DTEND;TZID=Europe/Dublin:20210318T170000
DTSTAMP:20260424T031625
CREATED:20210315T133736Z
LAST-MODIFIED:20210319T120822Z
UID:9924-1616083200-1616086800@mooreinstitute.ie
SUMMARY:Webinar: Anna Falkenau \, “Hotspots' for Revival Sessions" - Irish Studies Seminar Series
DESCRIPTION:Irish Studies Seminar Series\, in association with the Moore Institute\, NUI Galway. \nAnna Falkenau (Freyer-Hardiman Scholar\, Centre for Irish Studies\, NUI Galway)\, “‘Hotspots’ for Revival Sessions”: Micro and macro flows in the emergence and development of Galway City into an urban centre of Irish traditional music-making. \nJoin us for our first Spring Seminar in Irish Studies with NUI Galway doctoral scholar Anna Falkenau who will speak on her current research on the relationship between urban spaces and traditional Irish music-making in Galway. We are delighted to have An tOllamh Lillis Ó Laoire (Gaeilge\, OÉ Gaillmh) join us as well in the zoom room afterwards\, as a respondent to this session\, chaired by Dr Nessa Cronin (Centre for Irish Studies\, NUI Galway). For further information please contact: nessa.cronin@nuigalway.ie \nAttendance\nZoom registration link for seminar attendees is available here: https://us02web.zoom.us/webinar/register/WN_jDXWMp45R-2q2-2OKUQBpQ. The session will be live-streamed on the Moore Institute’s Facebook page at: https://www.facebook.com/mooreinstitute/live \nAbout the Speaker\nA recipient of a Freyer-Hardiman scholarship from NUI Galway\, Anna Falkenau is currently conducting doctoral research at the Centre for Irish Studies on local and global flows in the development of Irish traditional music in Galway City between 1961 and 1981. She previously received her Master of Arts in Music from Wesleyan University\, Connecticut\, USA (2004) and graduated from University College Cork (BMus\, 2002). She is a contributor to the forthcoming book Hardiman and after: Galway Culture and Society\, 1820-2020 with a core chapter entitled\, “‘It was in the Air’: Irish Traditional Music in Galway\, 1960-1979\,” edited by John Cunningham and Ciaran McDonagh.
URL:https://mooreinstitute.ie/event/webinar-anna-falkenau-hotspots-for-revival-sessions-irish-studies-seminar-series/
LOCATION:Seomra an Droichid\, Institiúid de Móra agus ar Zoom
ORGANIZER;CN="Dr%20Nessa%20Cronin":MAILTO:nessa.cronin@universityofgalway.ie
END:VEVENT
BEGIN:VEVENT
DTSTART;TZID=Europe/Dublin:20210326T170000
DTEND;TZID=Europe/Dublin:20210326T180000
DTSTAMP:20260424T031625
CREATED:20210316T165448Z
LAST-MODIFIED:20210412T134457Z
UID:9936-1616778000-1616781600@mooreinstitute.ie
SUMMARY:Book launch: Deniable Contact by Niall Ó Dochartaigh (Oxford University Press\, 2021)
DESCRIPTION:Update: Watch a Recording of the Session\n\n\nOverview\nLaunched by Prof. Ian McBride (Foster Professor of Irish History\, Oxford)   \nTo attend\, please register via: https://nuigalway-ie.zoom.us/j/96749370440?pwd=RUtQZjhBUFRXVmJ0TWxCWEVOWTdHZz09 \n Join us for a conversation between Niall Ó Dochartaigh and Ian McBride to mark the publication of Deniable Contact: Back-Channel Negotiation in Northern Ireland.  \nDeniable Contact provides the first full-length study of the secret negotiations and back-channels that were used in repeated efforts to end the Northern Ireland conflict. The analysis is founded on a rich store of historical evidence\, including the private papers of key Irish republican leaders\, recently released papers from national archives in Dublin and London\, and the papers of Brendan Duddy\, the intermediary who acted as the primary contact between the IRA and the British government on several occasions over a span of two decades\, including papers that have not yet been made publicly available. This documentary evidence\, combined with original interviews with politicians\, mediators\, civil servants\, and republicans\, allows a vivid picture to emerge of the complex maneuvering at this intersection. \n  \nNiall Ó Dochartaigh is Personal Professor of Political Science and Sociology at the National University of Ireland Galway. He is the author of Deniable Contact: Back-channel Negotiation in Northern Ireland (2021) and Civil Rights to Armalites: Derry and the birth of the Irish Troubles (1997; 2005). He is co-editor of Political Violence in Context (2015) and Dynamics of Political Change in Ireland: Making and Breaking a Divided Island (2017).   \nIan McBride  \nIan McBride is the Foster Professor of Irish History at Hertford College\, University of Oxford. His books include The Siege of Derry in Ulster Protestant Mythology (1997) and Scripture Politics: Ulster Presbyterians and Irish Radicalism in the Late Eighteenth Century (1998)\, both short-listed for the Christopher Ewart-Biggs Literary Prize; and Eighteenth-Century Ireland: The Isle of Slaves (2009). He is co-editor\, with Richard Bourke\, of The Princeton History of Modern Ireland (2016). 
URL:https://mooreinstitute.ie/event/book-launch-deniable-contact-by-niall-o-dochartaigh-oxford-university-press-2021/
LOCATION:Seomra an Droichid\, Institiúid de Móra agus ar Zoom
ATTACH;FMTTYPE=image/png:https://mooreinstitute.ie/wp-content/uploads/2021/03/Deniable-Contact-cover.png
END:VEVENT
BEGIN:VEVENT
DTSTART;TZID=Europe/Dublin:20210330T150000
DTEND;TZID=Europe/Dublin:20210330T160000
DTSTAMP:20260424T031625
CREATED:20210322T221542Z
LAST-MODIFIED:20210412T134938Z
UID:9953-1617116400-1617120000@mooreinstitute.ie
SUMMARY:Webinar: Q&A with Adam Roche
DESCRIPTION:Huston School of Film & Digital Media and the Moore Institute present a Q&A with Adam Roche creator of The Secret History of Hollywood and Attaboy Clarence Podcasts. \nAttendance \nThe session will take place live on Zoom – please register to attend at: https://tinyurl.com/ayv9m888. \nWatch the Recording
URL:https://mooreinstitute.ie/event/webinar-qa-with-adam-roche/
LOCATION:Online
ATTACH;FMTTYPE=image/jpeg:https://mooreinstitute.ie/wp-content/uploads/2021/03/Adam-Roche-Promo-V2.jpg
ORGANIZER;CN="Conn%20Holohan":MAILTO:conn.holohan@nuigalway.ie
END:VEVENT
END:VCALENDAR