BEGIN:VCALENDAR
VERSION:2.0
PRODID:-//Moore Institute - ECPv6.0.0.1//NONSGML v1.0//EN
CALSCALE:GREGORIAN
METHOD:PUBLISH
X-ORIGINAL-URL:https://mooreinstitute.ie
X-WR-CALDESC:Events for Moore Institute
REFRESH-INTERVAL;VALUE=DURATION:PT1H
X-Robots-Tag:noindex
X-PUBLISHED-TTL:PT1H
BEGIN:VTIMEZONE
TZID:Europe/Dublin
BEGIN:STANDARD
TZOFFSETFROM:+0000
TZOFFSETTO:+0100
TZNAME:IST
DTSTART:20210328T010000
END:STANDARD
BEGIN:DAYLIGHT
TZOFFSETFROM:+0100
TZOFFSETTO:+0000
TZNAME:GMT
DTSTART:20211031T010000
END:DAYLIGHT
END:VTIMEZONE
BEGIN:VEVENT
DTSTART;TZID=Europe/Dublin:20210209T140000
DTEND;TZID=Europe/Dublin:20210209T150000
DTSTAMP:20260424T073825
CREATED:20210202T151850Z
LAST-MODIFIED:20210202T151925Z
UID:9837-1612879200-1612882800@mooreinstitute.ie
SUMMARY:Webinar: Q&A with Lenny Abrahamson
DESCRIPTION:Huston School of Film & Digital Media and The Moore Institute present a Q & A with Lenny Abrahamson\, director of Emmy nominated Normal People. \nAttendance\nThe session will take place live on Zoom – please register to attend at: tinyurl.com/4fkuk6av. It will also be broadcast live on the Moore Institute’s Facebook page
URL:https://mooreinstitute.ie/event/qa-with-lenny-abrahamson/
LOCATION:Seomra an Droichid\, Institiúid de Móra agus ar Zoom
ATTACH;FMTTYPE=image/png:https://mooreinstitute.ie/wp-content/uploads/2021/02/Screenshot-2021-02-02-at-15.13.35.png
ORGANIZER;CN="Conn%20Holohan":MAILTO:conn.holohan@nuigalway.ie
END:VEVENT
BEGIN:VEVENT
DTSTART;TZID=Europe/Dublin:20210216T150000
DTEND;TZID=Europe/Dublin:20210216T160000
DTSTAMP:20260424T073825
CREATED:20210203T100446Z
LAST-MODIFIED:20210212T090029Z
UID:9847-1613487600-1613491200@mooreinstitute.ie
SUMMARY:Democracy in America
DESCRIPTION:Leading American commentators will engage in a wide-ranging discussion of the political condition of the US in the aftermath of the Trump presidency and the outset of Joe Biden’s term. \nPanellists: \n\nDan Balz\, chief correspondent\, The Washington Post\nProf. Stephanie McCurry (Columbia University)\nProf. Monica Miller (Barnard College)\n\nRespondents: \n\nProf. Eileen Gillooly (Columbia University)\nProf. Lee Morrissey (Clemson University)\n\nChair: Prof. Daniel Carey (NUI Galway) \nTo attend please sign up using this link: https://us02web.zoom.us/webinar/register/WN_cYnF0HLRQIWBpFDLg8xtiA. The event will also be streamed on the Moore Institute’s Facebook page: https://www.facebook.com/events/689296505096386.
URL:https://mooreinstitute.ie/event/democracy-in-america/
LOCATION:Seomra an Droichid\, Institiúid de Móra agus ar Zoom
ATTACH;FMTTYPE=image/png:https://mooreinstitute.ie/wp-content/uploads/2021/02/Screenshot-2021-02-03-at-10.03.58.png
ORGANIZER;CN="Daniel%20Carey":MAILTO:daniel.carey@nuigalway.ie
END:VEVENT
BEGIN:VEVENT
DTSTART;TZID=Europe/Dublin:20210222T200000
DTEND;TZID=Europe/Dublin:20210222T210000
DTSTAMP:20260424T073825
CREATED:20210222T103628Z
LAST-MODIFIED:20210222T103628Z
UID:9865-1614024000-1614027600@mooreinstitute.ie
SUMMARY:"Voyagers from the Grave”: A Claddagh Calamity of 1876
DESCRIPTION:Online lecture\, Monday 22 February\, 8 pm\, by John Cunningham (History\, NUI Galway) presented by Galway Archaeological & Historical Society in conjunction with Moore Institute\, NUI Galway. \nOn Monday 13th November 1876\, a hooker\, the St Patrick\, with a crew of four fishermen\, set sail from the Claddagh towards Slyne Head. That night a tremendous storm carried the vessel 150 miles out into the Atlantic\, where four days later\, three survivors were rescued by a passing Swedish vessel and taken to America. Their families and neighbours had already given them all up for dead. The lecture will trace the travails of the crew of the St Patrick – Michael Moran\, Patrick Moran\, John Moran and Michael Smyth – and consider circumstances in the Claddagh community to which they belonged \nTo participate live on Zoom (the most inter-active option)\, please register in advance here:  https://us02web.zoom.us/webinar/register/WN_YH3e_mcmS62-CW-CSiGdSA . For a live stream on Facebook\, go to the Moore Institute’s page  https://www.facebook.com/mooreinstitute/live
URL:https://mooreinstitute.ie/event/voyagers-from-the-grave-a-claddagh-calamity-of-1876/
LOCATION:Seomra an Droichid\, Institiúid de Móra agus ar Zoom
ORGANIZER;CN="Dr.%20John%20Cunningham":MAILTO:john.cunningham@nuigalway.ie
END:VEVENT
BEGIN:VEVENT
DTSTART;TZID=Europe/Dublin:20210223T120000
DTEND;TZID=Europe/Dublin:20210223T130000
DTSTAMP:20260424T073825
CREATED:20210215T144838Z
LAST-MODIFIED:20210215T144838Z
UID:9860-1614081600-1614085200@mooreinstitute.ie
SUMMARY:Webinar: Q & A with Will Collins
DESCRIPTION:Huston School of Film & Digital Media and the Moore Institute present a Q & A with Will Collins writer of Golden Globe nominated\nWolfwalkers. \nAttendance\nThe session will take place live on Zoom – please register to attend at: https://tinyurl.com/90men51k. It will also be broadcast live on the\nMoore Institute’s Facebook page
URL:https://mooreinstitute.ie/event/webinar-q-a-with-will-collins/
LOCATION:Seomra an Droichid\, Institiúid de Móra agus ar Zoom
ATTACH;FMTTYPE=image/png:https://mooreinstitute.ie/wp-content/uploads/2021/02/wolfwalkers-cover.png
ORGANIZER;CN="Conn%20Holohan":MAILTO:conn.holohan@nuigalway.ie
END:VEVENT
END:VCALENDAR