BEGIN:VCALENDAR
VERSION:2.0
PRODID:-//Moore Institute - ECPv6.0.0.1//NONSGML v1.0//EN
CALSCALE:GREGORIAN
METHOD:PUBLISH
X-WR-CALNAME:Moore Institute
X-ORIGINAL-URL:https://mooreinstitute.ie
X-WR-CALDESC:Events for Moore Institute
REFRESH-INTERVAL;VALUE=DURATION:PT1H
X-Robots-Tag:noindex
X-PUBLISHED-TTL:PT1H
BEGIN:VTIMEZONE
TZID:Europe/Dublin
BEGIN:STANDARD
TZOFFSETFROM:+0000
TZOFFSETTO:+0100
TZNAME:IST
DTSTART:20220327T010000
END:STANDARD
BEGIN:DAYLIGHT
TZOFFSETFROM:+0100
TZOFFSETTO:+0000
TZNAME:GMT
DTSTART:20221030T010000
END:DAYLIGHT
END:VTIMEZONE
BEGIN:VEVENT
DTSTART;TZID=Europe/Dublin:20221018T120000
DTEND;TZID=Europe/Dublin:20221018T140000
DTSTAMP:20260420T035706
CREATED:20221013T100715Z
LAST-MODIFIED:20221023T220620Z
UID:12190-1666094400-1666101600@mooreinstitute.ie
SUMMARY:Sport & Exercise Research Group Seminar: Exercise Physiology in evaluation of fitness and exercise prescription
DESCRIPTION:Exercise Physiology in evaluation of fitness and exercise prescription \nDr. Ananya Gupta\, Discipline of Physiology\, School of Medicine \nPlease note that the seminar will be delivered online\, via Zoom instead. Please join at: https://nuigalway-ie.zoom.us/j/91318855652 \n  \nIn this seminar Dr. Ananya Gupta will talk about the benefits of physical activity (PA)\, the evidence supporting PA and the recommended guidelines for PA in a healthy adult. In addition she will also discuss the importance of exercise physiology and how it can be applied in exercise testing in the evaluation of health\, fitness and performance. We will also briefly discuss the basic principles underlying exercise prescription in healthy clients as well as in a clinical setting. \nDr. Ananya Gupta is a lecturer in the Discipline of Physiology. She is the Director of the MSc program in Exercise Physiology and Application in Therapy. She is also the founder and director of the Exercise Physiology Core Facility (EPCF) located in the Human Biology Building which is an integral part of the Discipline of Physiology\, School of Medicine\, University of Galway. The Facility is committed to a tripartite mission in which to advance the knowledge and practice of exercise physiology through supporting and advancing exercise physiology reesearch\, providing professional training and mentorship to the next generation of exercise physiologists and to increase awareness about the importance of physical activity and physical fitness in lifelong health amongst the general population. \n  \nFor further information on the Sport & Exercise Research Group\, please visit: https://mooreinstitute.ie/research-group/sport-identity-representation/
URL:https://mooreinstitute.ie/event/sport-exercise-research-group-seminar-exercise-physiology-in-evaluation-of-fitness-and-exercise-prescription/
LOCATION:Online\, via Zoom
ATTACH;FMTTYPE=image/png:https://mooreinstitute.ie/wp-content/uploads/2022/10/Sean-Crosson-Oct-18-2022.png
ORGANIZER;CN="Dr%20Se%C3%A1n%20Crosson":MAILTO:sean.crosson@universityofgalway.ie
END:VEVENT
BEGIN:VEVENT
DTSTART;TZID=Europe/Dublin:20221018T140000
DTEND;TZID=Europe/Dublin:20221018T150000
DTSTAMP:20260420T035706
CREATED:20221012T124229Z
LAST-MODIFIED:20221012T125338Z
UID:12170-1666101600-1666105200@mooreinstitute.ie
SUMMARY:Navigating Archival Research - Skills\, Tools\, and Methods
DESCRIPTION:There are over 400 archive collections in the Library\, dating from the 14th century to the present day. Archives of writers\, academics\, activists\, film-makers\, musicians\, organisations\, local landed estates and families. \nThis session will introduce users to conducting archival research\, how to find\, search\, request\, and use manuscript and digital archive collections offered by the Library\, how to navigate copyright/citation of archival material\, what supports are offered from the Archives team\, and how to build your research question and argument. \nThis a good opportunity to learn about the records of the unique landscape of Connemara and the Aran Islands through the maps and records of cartographer Tim Robinson and archaeologist\, Etienne Rynne and discover local family history through landed estate records from the 18th century! \nRegistration\nRegistration is required. Please register at: https://universityofgalway.libcal.com/event/3942411# \n\nDate: Tuesday\, October 18\, 2022 \nTime:14:00 – 15:00 \nTime Zone: UK\, Ireland\, Lisbon Time (change) \nLocation: Library Training Room PC Suite (Map ) \nCampus: Galway
URL:https://mooreinstitute.ie/event/navigating-archival-research-skills-tools-and-methods/
LOCATION:Library Training Room PC Suite\, University of Galway
ATTACH;FMTTYPE=image/png:https://mooreinstitute.ie/wp-content/uploads/2022/10/1665416088.png
ORGANIZER;CN="Dr%20Barry%20Houlihan":MAILTO:barry.houlihan@universityofgalway.ie
END:VEVENT
END:VCALENDAR