BEGIN:VCALENDAR
VERSION:2.0
PRODID:-//Moore Institute - ECPv6.0.0.1//NONSGML v1.0//EN
CALSCALE:GREGORIAN
METHOD:PUBLISH
X-ORIGINAL-URL:https://mooreinstitute.ie
X-WR-CALDESC:Events for Moore Institute
REFRESH-INTERVAL;VALUE=DURATION:PT1H
X-Robots-Tag:noindex
X-PUBLISHED-TTL:PT1H
BEGIN:VTIMEZONE
TZID:Europe/Dublin
BEGIN:STANDARD
TZOFFSETFROM:+0000
TZOFFSETTO:+0100
TZNAME:IST
DTSTART:20220327T010000
END:STANDARD
BEGIN:DAYLIGHT
TZOFFSETFROM:+0100
TZOFFSETTO:+0000
TZNAME:GMT
DTSTART:20221030T010000
END:DAYLIGHT
END:VTIMEZONE
BEGIN:VEVENT
DTSTART;TZID=Europe/Dublin:20221006T130000
DTEND;TZID=Europe/Dublin:20221006T140000
DTSTAMP:20260420T092542
CREATED:20220922T123313Z
LAST-MODIFIED:20221006T114128Z
UID:12022-1665061200-1665064800@mooreinstitute.ie
SUMMARY:Celebrating ERC and IRC Humanities Projects at the Moore Institute
DESCRIPTION:Join us for an event to celebrate 8 major ERC and IRC humanities projects in the Moore Institute. PIs on 2 ERC consolidator grants and 6 IRC Laureate grants will describe their work and the distinctive challenges of leading teams conducting shared research exploring the medieval period to the present day.\n\nSpeakers include: Dr. Jacopo Bisagni (Laureate)\, Dr.  Andrea Ciribuco (Laureate)\, Dr. Anna Gasperini (Laureate)\, Dr. Pádraic Moran (Laureate)\, Dr. Erin McCarthy (Laureate)\, An tOll. Rióna Ní Fhrighil (Laureate)\, Prof. Anne O’Connor (ERC)\, Prof. David O’Shaughnessy (ERC).\n\nAll welcome.\n\n\n\n                  
URL:https://mooreinstitute.ie/event/celebrating-erc-and-irc-humanities-projects-at-the-moore-institute/
LOCATION:THB-G010 Moore Institute Seminar Room\, Hardiman Research Building\, University of Galway
ATTACH;FMTTYPE=image/jpeg:https://mooreinstitute.ie/wp-content/uploads/2022/09/IRC-and-ERC.jpg
ORGANIZER;CN="Martha%20Shaughnessy":MAILTO:martha.shaughnessy@universityofgalway.ie
END:VEVENT
BEGIN:VEVENT
DTSTART;TZID=Europe/Dublin:20221006T160000
DTEND;TZID=Europe/Dublin:20221006T173000
DTSTAMP:20260420T092542
CREATED:20220929T152827Z
LAST-MODIFIED:20221002T214137Z
UID:12091-1665072000-1665077400@mooreinstitute.ie
SUMMARY:Irish Studies Seminar Series: “Granny’s Things”: Personal Objects as Gateways into a Life Story
DESCRIPTION:Irish Studies Seminar Series \nCentre for Irish Studies\, School of Geography\, Archaeology and Irish Studies \nUniversity of Galway \n“Granny’s Things”: Personal Objects as Gateways into a Life Story\, \nKelly Norah Drukker \n(Michael Smith Visiting Scholar\, Concordia University\, Montreal) \n  \nMs Kelly Norah Drukker\, PhD Humanities Program – Centre for Interdisciplinary Studies in Society and Culture\, Concordia University\, Montreal \nSeminar Title: “Granny’s Things”: Personal Objects as Gateways into a Life Story \nGuest Respondent: Professor Anne Byrne\, School of Political Science and Sociology\, University of Galway. \nSeminar Abstract:  “Granny’s Things”: Personal Objects as Gateways into a Life Story \nA rosary\, a cashier’s pin\, a Hudson’s seal fur coat. These are objects that have constellated around the life of my late grandmother\, Rose\, from childhood until her later years. \nDrawing from the fields of oral history\, memory studies\, and creative nonfiction\, my research-creation project-in-progress asks\, how can personal objects help us access a life story after a loved one is no longer here to tell it? How\, through placing personal objects at the centre of family oral history interviews\, might we gain deeper insight into the circumstances of a family member’s life\, and decode meanings otherwise overlooked? When narrating the more difficult aspects of a family member’s story\, can using objects as an entry point help with some of the ethical issues surrounding representation of someone who can no longer speak for themselves? For creative writers\, how can personal objects influence the telling\, and resist definitions pinned down by words? \nThrough family oral history interviews\, nonfiction writing\, and by drawing upon the work of artists and theorists who focus on objects of memory\, my project investigates the potential personal objects have to lend insight into a loved one’s life story\, and charts their evolving meaning\, over time.
URL:https://mooreinstitute.ie/event/irish-studies-seminar-series-grannys-things-personal-objects-as-gateways-into-a-life-story/
LOCATION:Seminar Room\, Centre for Irish Studies\, 4 Distillery Road
ATTACH;FMTTYPE=image/jpeg:https://mooreinstitute.ie/wp-content/uploads/2022/09/Irish-studeies-seminar-6-oct.jpg
ORGANIZER;CN="Dr%20Nessa%20Cronin":MAILTO:nessa.cronin@universityofgalway.ie
END:VEVENT
BEGIN:VEVENT
DTSTART;TZID=Europe/Dublin:20221006T173000
DTEND;TZID=Europe/Dublin:20221006T183000
DTSTAMP:20260420T092542
CREATED:20220915T160443Z
LAST-MODIFIED:20221006T114748Z
UID:11941-1665077400-1665081000@mooreinstitute.ie
SUMMARY:Book launch: A Vehicle for Change: Popular Representations of the Automobile in 20th-Century France
DESCRIPTION:Tugtar cuireadh duit teacht go dtí Institiúid de Móra áit a seolfaidh an tOllamh Paul Rouse ón gColáiste Ollscoile\, Baile Átha Cliath mo leabhar. \nI am delighted to invite you to the Moore Institute where Professor Paul Rouse from UCD will launch my book. \nDéardaoin\, 6 Deireadh Fómhair 2022 ag 5.30pm i seomra G011\, Áras Taighde Uí Argadáin. \nThursday\, 6 October 2022 at 5.30pm in room G011\, Hardiman Research Building. \nContact: eamon.ocofaigh@ollscoilnagaillimhe.ie \nRegistration\nIf you would like to attend this event\, please register via Eventbrite at: https://www.eventbrite.com/e/book-launch-a-vehicle-for-change-tickets-415615094937
URL:https://mooreinstitute.ie/event/book-launch-a-vehicle-for-change-popular-representations-of-the-automobile-in-20th-century-france/
LOCATION:THB-G010 Moore Institute Seminar Room\, Hardiman Research Building\, University of Galway
ATTACH;FMTTYPE=image/png:https://mooreinstitute.ie/wp-content/uploads/2022/09/A-Vehicle-for-Change_book-cover.png
ORGANIZER;CN="Dr%20%C3%89amon%20%C3%93%20Cofaigh":MAILTO:eamon.ocofaigh@ollscoilnagaillimhe.ie
END:VEVENT
END:VCALENDAR