BEGIN:VCALENDAR
VERSION:2.0
PRODID:-//Moore Institute - ECPv6.0.0.1//NONSGML v1.0//EN
CALSCALE:GREGORIAN
METHOD:PUBLISH
X-ORIGINAL-URL:https://mooreinstitute.ie
X-WR-CALDESC:Events for Moore Institute
REFRESH-INTERVAL;VALUE=DURATION:PT1H
X-Robots-Tag:noindex
X-PUBLISHED-TTL:PT1H
BEGIN:VTIMEZONE
TZID:Europe/Dublin
BEGIN:STANDARD
TZOFFSETFROM:+0000
TZOFFSETTO:+0100
TZNAME:IST
DTSTART:20220327T010000
END:STANDARD
BEGIN:DAYLIGHT
TZOFFSETFROM:+0100
TZOFFSETTO:+0000
TZNAME:GMT
DTSTART:20221030T010000
END:DAYLIGHT
END:VTIMEZONE
BEGIN:VEVENT
DTSTART;TZID=Europe/Dublin:20220913T120000
DTEND;TZID=Europe/Dublin:20220913T140000
DTSTAMP:20260420T054425
CREATED:20220908T165841Z
LAST-MODIFIED:20221023T221213Z
UID:11900-1663070400-1663077600@mooreinstitute.ie
SUMMARY:Sport & Exercise Research Group Seminar: Lance Armstrong and suiveur reporting in Libération\, 1999–2013: A Case Study in Sports Journalism
DESCRIPTION:As national institution and site of memory for France for over a century\, the Tour de France is a privileged locus for investigating the interactions between sport and cultural meaning. Literary journalism chronicling the race has a long history of representing the multiple meanings and dimensions of physical performance\, particularly of heroic champions\, in the Tour. During the late twentieth and early twenty-first centuries the Tour itself and French culture more widely were destabilised by the ambiguous hero Lance Armstrong\, and\, in a context of guarded reporting on the facts of doping\, literary journalism was able to give a creative account of complex sporting performances. Based on an article co-authored by Hugh Dauncey and Ruadhán Cooke\, this discussion examines the journalism of Jean-Louis Le Touzet in Libération as an example of suiveur reporting in the tradition of Antoine Blondin\, and will attempt to show how the freedom enabled by literary journalism allowed Le Touzet to accurately reflect academic perspectives on Armstrong\, politics\, culture and sport. \nRuadhán Cooke teaches French in the School of Languages\, Literatures and Cultures. Research interests include the overlaps between sport and literature\, sports journalism and the cultural impact of sport. \nAll Welcome!
URL:https://mooreinstitute.ie/event/lance-armstrong-and-suiveur-reporting-in-liberation-1999-2013-a-case-study-in-sports-journalism/
LOCATION:The Bridge Room THB-1001\, First Floor\, Hardiman Research Building\, University of Galway
ATTACH;FMTTYPE=image/png:https://mooreinstitute.ie/wp-content/uploads/2022/09/Sean-Crosson-13-Sept-2022.png
ORGANIZER;CN="Dr%20Se%C3%A1n%20Crosson":MAILTO:sean.crosson@universityofgalway.ie
END:VEVENT
END:VCALENDAR