BEGIN:VCALENDAR
VERSION:2.0
PRODID:-//Moore Institute - ECPv6.0.0.1//NONSGML v1.0//EN
CALSCALE:GREGORIAN
METHOD:PUBLISH
X-ORIGINAL-URL:https://mooreinstitute.ie
X-WR-CALDESC:Events for Moore Institute
REFRESH-INTERVAL;VALUE=DURATION:PT1H
X-Robots-Tag:noindex
X-PUBLISHED-TTL:PT1H
BEGIN:VTIMEZONE
TZID:Europe/Dublin
BEGIN:STANDARD
TZOFFSETFROM:+0000
TZOFFSETTO:+0100
TZNAME:IST
DTSTART:20210328T010000
END:STANDARD
BEGIN:DAYLIGHT
TZOFFSETFROM:+0100
TZOFFSETTO:+0000
TZNAME:GMT
DTSTART:20211031T010000
END:DAYLIGHT
END:VTIMEZONE
BEGIN:VEVENT
DTSTART;TZID=Europe/Dublin:20210923T130000
DTEND;TZID=Europe/Dublin:20210923T140000
DTSTAMP:20260423T085003
CREATED:20210920T093735Z
LAST-MODIFIED:20210921T092729Z
UID:10658-1632402000-1632405600@mooreinstitute.ie
SUMMARY:SECA Seminar Series 2021/22: Methodology from Latin America: Reflections on the Qualitative Process
DESCRIPTION:Dr. Bona will present some reflections on Research Methodology applied to Humanities\, mainly Communication\, in Latin America. Bringing a perspective from “the South”\, the talk will approach the role of the researcher in data gathering and analysis and the importance of self-knowledge; the challenges of researching in a field that is in constant movement and change (the society right now); the concept of “Transmethodology” and some tactics developed from two research groups in Brazil focusing on qualitative investigations: the “research of the research”\, the “prior field trip”\, and the “field journal”. \nRegistration\nClick on this link on the day to gain access to this talk: \nhttps://nuigalway-ie.zoom.us/j/95199666761?pwd=ZTBrV3htTWR3UC9XV1BrTjVPOTF5UT09 \nMeeting ID: 951 9966 6761 \nPasscode: 356850 \nPlease mute your microphone on entering the meeting. \nWe look forward to seeing you there.
URL:https://mooreinstitute.ie/event/methodology-from-latin-america-reflections-on-the-qualitative-process/
LOCATION:Online
ORGANIZER;CN="Dr%20Andrew%20%C3%93%20Baoill%20andrew.obaoill%40nuigalway.ie":MAILTO:andrew.obaoill@nuigalway.ie
END:VEVENT
END:VCALENDAR