BEGIN:VCALENDAR
VERSION:2.0
PRODID:-//Moore Institute - ECPv6.0.0.1//NONSGML v1.0//EN
CALSCALE:GREGORIAN
METHOD:PUBLISH
X-WR-CALNAME:Moore Institute
X-ORIGINAL-URL:https://mooreinstitute.ie
X-WR-CALDESC:Events for Moore Institute
REFRESH-INTERVAL;VALUE=DURATION:PT1H
X-Robots-Tag:noindex
X-PUBLISHED-TTL:PT1H
BEGIN:VTIMEZONE
TZID:Europe/Dublin
BEGIN:STANDARD
TZOFFSETFROM:+0000
TZOFFSETTO:+0100
TZNAME:IST
DTSTART:20210328T010000
END:STANDARD
BEGIN:DAYLIGHT
TZOFFSETFROM:+0100
TZOFFSETTO:+0000
TZNAME:GMT
DTSTART:20211031T010000
END:DAYLIGHT
END:VTIMEZONE
BEGIN:VEVENT
DTSTART;TZID=Europe/Dublin:20210921T120000
DTEND;TZID=Europe/Dublin:20210921T140000
DTSTAMP:20260423T030928
CREATED:20210916T092024Z
LAST-MODIFIED:20210921T091620Z
UID:10627-1632225600-1632232800@mooreinstitute.ie
SUMMARY:POSTPONED - Sport & Exercise Research Group Seminar Series: "Lance Armstrong and suiveur reporting in Libération\, 1999–2013: A Case Study in Sports Journalism"
DESCRIPTION:Dear Colleagues\, \nUnfortunately due to unforeseen circumstances this week’s Research in Sport lecture by Ruadhán Cooke –  Lance Armstrong and suiveur reporting in Libération\, 1999–2013: A Case Stu​dy in Sports Journalism – has had to be postponed. We hope to reschedule this lecture for a later date\, to be confirmed.  \nOur next lecture will be on Sep. 28th (12pm in The Bridge) when Dr. Eoin Whelan (J.E. Cairnes School of Business & Economics\, NUI Galway) will address the topic of  ‘How are advances in digital technologies impacting sports and exercise?’  – further details to follow later this week. \nLance Armstrong and suiveur reporting in Libération\, 1999–2013: A Case Study in Sports Journalism\nRuadhán Cooke\, Discipline of French\, School of Languages\, Literatures and Cultures\, NUI Galway. \nAs national institution and site of memory for France for over a century\, the Tour de France is a privileged locus for investigating the interactions between sport and cultural meaning. Literary journalism chronicling the race has a long history of representing the multiple meanings and dimensions of physical performance\, particularly of heroic champions\, in the Tour. During the late twentieth and early twenty-first centuries the Tour itself and French culture more widely were destabilised by the ambiguous hero Lance Armstrong\, and\, in a context of guarded reporting on the facts of doping\, literary journalism was able to give a creative account of complex sporting performances. This lecture examines the journalism of Jean-Louis Le Touzet in Libération as an example of suiveur reporting in the tradition of Antoine Blondin\, and shows how the freedom of literary journalism allows Le Touzet to accurately reflect academic perspectives on Armstrong\, politics\, culture and sport. \nRuadhán Cooke teaches French in the School of Languages\, Literatures and Cultures. Research interests include the overlaps between sport and literature\, sports journalism and the cultural impact of sport.
URL:https://mooreinstitute.ie/event/sport-exercise-research-group-seminar-series-lance-armstrong-and-suiveur-reporting-in-liberation-1999-2013-a-case-study-in-sports-journalism/
LOCATION:The Bridge Room THB-1001\, First Floor\, Hardiman Research Building\, University of Galway
ORGANIZER;CN="Ruadh%C3%A1n%20Cooke":MAILTO:ruadhan.cooke@nuigalway.ie
END:VEVENT
END:VCALENDAR