BEGIN:VCALENDAR
VERSION:2.0
PRODID:-//Moore Institute - ECPv6.0.0.1//NONSGML v1.0//EN
CALSCALE:GREGORIAN
METHOD:PUBLISH
X-WR-CALNAME:Moore Institute
X-ORIGINAL-URL:https://mooreinstitute.ie
X-WR-CALDESC:Events for Moore Institute
REFRESH-INTERVAL;VALUE=DURATION:PT1H
X-Robots-Tag:noindex
X-PUBLISHED-TTL:PT1H
BEGIN:VTIMEZONE
TZID:Europe/Dublin
BEGIN:STANDARD
TZOFFSETFROM:+0000
TZOFFSETTO:+0100
TZNAME:IST
DTSTART:20210328T010000
END:STANDARD
BEGIN:DAYLIGHT
TZOFFSETFROM:+0100
TZOFFSETTO:+0000
TZNAME:GMT
DTSTART:20211031T010000
END:DAYLIGHT
END:VTIMEZONE
BEGIN:VEVENT
DTSTART;VALUE=DATE:20210617
DTEND;VALUE=DATE:20210620
DTSTAMP:20260424T091531
CREATED:20210518T200846Z
LAST-MODIFIED:20210519T223944Z
UID:10137-1623888000-1624147199@mooreinstitute.ie
SUMMARY:CAMPS: 8th International Conference on the Science of Computus in Late Antiquity and the Middle Ages\, 17-19 June 2021
DESCRIPTION:8th International Conference on the Science of Computus in Late Antiquity and the Middle Ages\, Galway 17-19 June 2021 \nSince 2006\, the Moore Institute of the National University of Ireland in Galway has hosted\, under the direction of Dáibhí Ó Cróinín\, a biannual conference on the science of computus in the Middle Ages. Computus – the mathematics required to calculate the date of Easter\, and related topics – straddles the fields of mathematics and astronomy\, biblical interpretation and cosmology\, empirical astronomical observation\, and the perennial quest to understand the concepts of time and time-Reckoning. \nThe core period covered by the Galway Conference stretches from the beginnings of Easter calculations in the third century to the introduction of Arabic and Greek science in the Latin West in the 12th century\, but papers on the reckoning of time and its cultural context in the later Middle Ages have also always been welcome. Each conference has had a special theme (e.g.\, the formation of computus in Late Antiquity; the rise of prognostications in the early Middle Ages; the revolution of computus in the 11th and 12th centuries; computus in the Carolingian Age; computus and the vernacular; etc.). \nThe upcoming conference will start on 17 June with a special panel addressing the following fundamental conceptual question: \nWhat is early medieval Latin science? \nWe are very happy to confirm that the following scholars have accepted to present in this panel: Faith Wallis (Montreal)\, John J. Contreni (Purdue)\, Philipp Nothaft (Dublin)\, James T. Palmer (St. Andrews). \n18 June and 19 June will be devoted to thematic sessions covering topics of computistical interest from Late Antiquity to the Early Modern Period. The conference will end on 19 June with a show-case of three websites recently developed as part of the following three projects: \nIFCE – The Irish Foundation of Carolingian Europe: the case of calendrical science (funded by the Irish Research Council Laureate Programme) \nIRCABRITT – Ireland and Carolingian Brittany: Texts and Transmission (funded by the Irish Research Council Laureate Programme) \nInnovating Knowledge – Isidore’s Etymologiae in the Carolingian Period (funded by the Nederlandse Wetenschapelijke Organisatie) \nRegistration: \nThis conference will be held digitally through Zoom. A link will be sent to all registered participants a day in advance\, for each conference day. Please register here:\nhttps://forms.gle/1CCaed7K1UhCsv5g8 \nIf you have any questions\, do not hesitate to contact us at: computusgalway@gmail.com \nProgramme: \nTHURSDAY\, 17 JUNE: \nSession 1: ‘What is early medieval Latin science?’ \n15:00-15:25: James T. Palmer (St. Andrews) \n15:25-15:50: Philipp Nothaft (Dublin) \n16:00-16:25: Faith Wallis (Montreal) \n16:25-16:50: John J. Contreni (Purdue) \n16:50-18:00: Open discussion \n18:30: Virtual Pub \nFRIDAY\, 18 JUNE: \nSession 2: Eschatology \n9:30-9:55: Tobit Loevenich (Dublin) – Usque ad mediam noctem: an eschatological passage in the Computus Einsidlensis \n9:55-10:20: Elisa Ramazzina (Belfast) – Monsters at the end of time \n10:20-10:45: Discussion \nSession 3: The Carolingian Age \n11:15-11:40: Christian Schweizer (Dublin) – Computus\, quadrivium\, and poetry in Dicuil’s Liber de astronomia \n11:40-12:05: Mariken Teeuwen (Amsterdam) – Carolingian readers of Martianus and Boethius: How did they gloss the Ars arithmetica? \n12:05-12:30: Discussion \nSession 4: 9th and 10th – century Breton connections \n14:00-14:25: Paula Harrison (Galway) – Seeing through a manuscript\, darkly: illumination through computistical networks as witnessed in Laon Bibliothèque municipale\, ms. 422 \n14:25-14:50: Jacopo Bisagni (Galway) / Immo Warntjes (Dublin) – Abbo of Fleury’s Breton lunar calendar \n14:50-15:15: Discussion \nSession 5: Later developments \n15:45-16:10: Fathi Jarray (Tunis) – The distribution of water with timekeeping in the Islamic oasis: a shared knowledge from the Antiquity to the Modern epoch \n16:10-16:35: Leofranc Holford-Strevens (Oxford) – Thomas Lydiat’s proposal for a new calendar \n16:35-17:00: Discussion \n18:00-19:00: Presentation of latest publications in the field \nThis session includes a discussion with editors of series that are interested in\, or have a track record of\, publishing monographs on matters computistical. We hope that this will give a sense of potential publication venues\, especially to colleagues at the beginning of their careers. \n19:00: Virtual Pub \nSATURDAY\, 19 JUNE: \nSession 6: Late Antiquity \n14:00-14:25: Sr. Maria Theotokos Adams\, SSVM (Washington\, DC) – Computus and exegesis in Eusebius of Caesarea \n14:25-14:50: Daniel Mc Carthy (Dublin) – Sulpicius Severus’ construction of his 84-year paschal table \n14:50-15:15: Discussion \nSession 7: Websites / Databases \n15:45-16:45: Presentation of the following websites: \nDatabase of pre-AD 900 computistical manuscripts / texts / objects – Judith ter Horst (Dublin) \nA descriptive handlist of Breton manuscripts\, c. AD 780–1100 – Jacopo Bisagni (Galway) \nDatabase of early medieval manuscripts of Isidore’s Etymologiae – Evina Steinová (Amsterdam) \n16:45-17:15: Discussion
URL:https://mooreinstitute.ie/event/camps-8th-international-conference-on-the-science-of-computus-in-late-antiquity-and-the-middle-ages-17-19-june-2021/
LOCATION:Seomra an Droichid\, Institiúid de Móra agus ar Zoom
ORGANIZER;CN="Immo%20Warntjes":MAILTO:iwarntje@tcd.ie
END:VEVENT
END:VCALENDAR