BEGIN:VCALENDAR
VERSION:2.0
PRODID:-//Moore Institute - ECPv6.0.0.1//NONSGML v1.0//EN
CALSCALE:GREGORIAN
METHOD:PUBLISH
X-ORIGINAL-URL:https://mooreinstitute.ie
X-WR-CALDESC:Events for Moore Institute
REFRESH-INTERVAL;VALUE=DURATION:PT1H
X-Robots-Tag:noindex
X-PUBLISHED-TTL:PT1H
BEGIN:VTIMEZONE
TZID:UTC
BEGIN:STANDARD
TZOFFSETFROM:+0000
TZOFFSETTO:+0000
TZNAME:UTC
DTSTART:20180101T000000
END:STANDARD
END:VTIMEZONE
BEGIN:VEVENT
DTSTART;TZID=UTC:20180226T183000
DTEND;TZID=UTC:20180226T183000
DTSTAMP:20260425T040538
CREATED:20180221T164101Z
LAST-MODIFIED:20180221T164101Z
UID:5320-1519669800-1519669800@mooreinstitute.ie
SUMMARY:Mass Starvation: The History and Future of Famine
DESCRIPTION:  \n  \n  \n  \n  \n  \n  \n  \n  \n  \n  \n  \n  \n  \n  \n  \n  \n  \n  \n  \n  \n  \n  \n  \nMass Starvation: The History and Future of Famine  \nAlex de Waal \nTufts University & Executive Director\, World Peace Foundation \n6.30 pm\, Monday\, 26 February 2018 \nRoom G010\, Hardiman Research Building \nAlex de Waal is Executive Director of the World Peace Foundation. Considered one of the foremost experts on Sudan and the Horn of Africa\, his scholarly work and practice has also probed humanitarian crisis and response\, human rights\, HIV/AIDS and governance in Africa\, and conflict and peace-building. He is the author of several influential publications\, including The Real Politics of the Horn of Africa (Polity Press\, 2015) and Famine Crimes: Politics and the Disaster Relief Industry in Africa (James Curry\, 1997). In this lecture\, he will discuss his new book\, Mass Starvation: The History and Future of Famine (Wiley\, 2018)\, and why man-made famine and the political decisions that could end it for good must once again become a top priority for the international community.
URL:https://mooreinstitute.ie/event/mass-starvation-history-future-famine/
LOCATION:Seminar Room G010\, Hardiman Research Building
END:VEVENT
END:VCALENDAR