BEGIN:VCALENDAR
VERSION:2.0
PRODID:-//Moore Institute - ECPv6.0.0.1//NONSGML v1.0//EN
CALSCALE:GREGORIAN
METHOD:PUBLISH
X-ORIGINAL-URL:https://mooreinstitute.ie
X-WR-CALDESC:Events for Moore Institute
REFRESH-INTERVAL;VALUE=DURATION:PT1H
X-Robots-Tag:noindex
X-PUBLISHED-TTL:PT1H
BEGIN:VTIMEZONE
TZID:UTC
BEGIN:STANDARD
TZOFFSETFROM:+0000
TZOFFSETTO:+0000
TZNAME:UTC
DTSTART:20180101T000000
END:STANDARD
END:VTIMEZONE
BEGIN:VEVENT
DTSTART;TZID=UTC:20180219T140000
DTEND;TZID=UTC:20180219T160000
DTSTAMP:20260425T040539
CREATED:20180213T152750Z
LAST-MODIFIED:20180213T152750Z
UID:5257-1519048800-1519056000@mooreinstitute.ie
SUMMARY:Philosophy Seminar Series
DESCRIPTION:Philosophy Seminar Series. \nThe format for the afternoon is three twenty minute papers\, each followed by ten to fifteen minutes for questions/comments and a brief break for tea/coffee. \nThe running order is John Roe with “Kant’s Faith – Reasonable or Merely Rational”; Greg Crowley with “Shades of Truth”; and Johnny O’Rourke with “Wittgenstein’s Phenomenology Revisited”. Michael Hardiman has agreed to chair the session and keep us to time and the point. We have also allowed a few minutes at the end for any further comments or queries. \nEach of the speakers will provide the audience with a summary of their paper and/or it’s most significant quotes.
URL:https://mooreinstitute.ie/event/philosophy-seminar-series/
LOCATION:The Bridge Room 1001 First Floor Hardiman Research Building\, University of Galway\, Ireland
ATTACH;FMTTYPE=image/jpeg:https://mooreinstitute.ie/wp-content/uploads/2018/02/Philosphy.jpg
END:VEVENT
BEGIN:VEVENT
DTSTART;TZID=UTC:20180219T170000
DTEND;TZID=UTC:20180219T190000
DTSTAMP:20260425T040539
CREATED:20180215T151439Z
LAST-MODIFIED:20180215T151439Z
UID:5283-1519059600-1519066800@mooreinstitute.ie
SUMMARY:Jan Wagner and Matthew Sweeney - Poems
DESCRIPTION:  \n \n  \n  \n  \n  \n  \n  \n  \n  \n 
URL:https://mooreinstitute.ie/event/jan-wagner-matthew-sweeney-poems/
LOCATION:Seminar Room G010\, Hardiman Research Building
END:VEVENT
END:VCALENDAR