BEGIN:VCALENDAR
VERSION:2.0
PRODID:-//Moore Institute - ECPv6.0.0.1//NONSGML v1.0//EN
CALSCALE:GREGORIAN
METHOD:PUBLISH
X-ORIGINAL-URL:https://mooreinstitute.ie
X-WR-CALDESC:Events for Moore Institute
REFRESH-INTERVAL;VALUE=DURATION:PT1H
X-Robots-Tag:noindex
X-PUBLISHED-TTL:PT1H
BEGIN:VTIMEZONE
TZID:UTC
BEGIN:STANDARD
TZOFFSETFROM:+0000
TZOFFSETTO:+0000
TZNAME:UTC
DTSTART:20180101T000000
END:STANDARD
END:VTIMEZONE
BEGIN:VEVENT
DTSTART;TZID=UTC:20180205T160000
DTEND;TZID=UTC:20180205T180000
DTSTAMP:20260425T040540
CREATED:20180201T162231Z
LAST-MODIFIED:20180202T093533Z
UID:5183-1517846400-1517853600@mooreinstitute.ie
SUMMARY:Irish Centre for Human Rights
DESCRIPTION:The Irish Centre for Human Rights invites you to a public talk on Universal Periodic Review\, Sexual Orientation and Gender Identities \nBy Diana Carolina Prado Mosquera \nDiana is the United Nations Programme Officer at ILGA (The International LGBTQI+ Association). Originally from Colombia\, Diana holds a master’s in human rights law and spent several years working as International Affairs Adviser to the Colombian government\, wherein she was responsible for overseeing the country’s submissions to the second cycle of the Universal Periodic Review. As UN Programme Officer at ILGA\, Diana works with states to ensure that the rights of gender- and sexuality-based minorities have a substantive presence in the UPR process. \nDiscussants for this talk are Aengus Carroll (author of ILGA’s State-Sponsored Homophobia Report)\, and Sandra Duffy (PhD researcher\, Irish Centre for Human Rights; co-author of ILGA’s Trans Legal Mapping Report).
URL:https://mooreinstitute.ie/event/irish-centre-human-rights/
LOCATION:The Bridge Room 1001 First Floor Hardiman Research Building\, University of Galway\, Ireland
END:VEVENT
END:VCALENDAR