BEGIN:VCALENDAR
VERSION:2.0
PRODID:-//Moore Institute - ECPv6.0.0.1//NONSGML v1.0//EN
CALSCALE:GREGORIAN
METHOD:PUBLISH
X-WR-CALNAME:Moore Institute
X-ORIGINAL-URL:https://mooreinstitute.ie
X-WR-CALDESC:Events for Moore Institute
REFRESH-INTERVAL;VALUE=DURATION:PT1H
X-Robots-Tag:noindex
X-PUBLISHED-TTL:PT1H
BEGIN:VTIMEZONE
TZID:UTC
BEGIN:STANDARD
TZOFFSETFROM:+0000
TZOFFSETTO:+0000
TZNAME:UTC
DTSTART:20170101T000000
END:STANDARD
END:VTIMEZONE
BEGIN:VEVENT
DTSTART;TZID=UTC:20171122T113000
DTEND;TZID=UTC:20171122T130000
DTSTAMP:20260424T182106
CREATED:20171115T161040Z
LAST-MODIFIED:20171115T161040Z
UID:4977-1511350200-1511355600@mooreinstitute.ie
SUMMARY:Explore your Archive- Library Event
DESCRIPTION:James Hardiman Library invites you to\nExplore your Archive\n  Wednesday 22nd November 11:30-13:00\n (Bridge Room)\, Hardiman Research Building\nFour of NUIG Library Archivists will give a 10-minute talk (see below) and you will have an opportunity to view exhibits and ask questions.\nTea/Coffee will be served from 11:30\nPlease book here\n\nMuintir na Tíre Periodical literature – Fiona Kearney \nSir Peter Freyer – Kieran Hoare \nThe Rynne Family Archive: Ireland Through Generations – Barry Houlihan \n Michael Maurice O’Shaughnessy: Engineering the Promised Land – Aisling Keane \nFor more details on this event- click here \n\n 
URL:https://mooreinstitute.ie/event/explore-archive-library-event/
LOCATION:The Bridge\, Room 1001\, First Floor\, Hardiman Research Building
ORGANIZER;CN="kathleen%20Burke":MAILTO:Kathleen.Burke@nuigalway.ie
END:VEVENT
BEGIN:VEVENT
DTSTART;TZID=UTC:20171122T160000
DTEND;TZID=UTC:20171122T170000
DTSTAMP:20260424T182106
CREATED:20170920T084119Z
LAST-MODIFIED:20170920T084119Z
UID:4703-1511366400-1511370000@mooreinstitute.ie
SUMMARY:Graduate Research Seminars in History - Ian Kenneally
DESCRIPTION:22 Nov  Ian Kenneally (NUIG) \nEditing the first draft of history – the challenge of producing Ireland’s Revolution Papers\, 2016-17.
URL:https://mooreinstitute.ie/event/graduate-research-seminars-history-ian-kenneally/
LOCATION:The Bridge\, Room 1001\, First Floor\, Hardiman Research Building
ORGANIZER;CN="Dr.%20Gear%C3%B3id%20Barry":MAILTO:gearoid.barry@nuigalway.ie
END:VEVENT
END:VCALENDAR