BEGIN:VCALENDAR
VERSION:2.0
PRODID:-//Moore Institute - ECPv6.0.0.1//NONSGML v1.0//EN
CALSCALE:GREGORIAN
METHOD:PUBLISH
X-ORIGINAL-URL:https://mooreinstitute.ie
X-WR-CALDESC:Events for Moore Institute
REFRESH-INTERVAL;VALUE=DURATION:PT1H
X-Robots-Tag:noindex
X-PUBLISHED-TTL:PT1H
BEGIN:VTIMEZONE
TZID:UTC
BEGIN:STANDARD
TZOFFSETFROM:+0000
TZOFFSETTO:+0000
TZNAME:UTC
DTSTART:20170101T000000
END:STANDARD
END:VTIMEZONE
BEGIN:VEVENT
DTSTART;TZID=UTC:20170929T000000
DTEND;TZID=UTC:20171001T000000
DTSTAMP:20260425T040545
CREATED:20170927T123958Z
LAST-MODIFIED:20170927T124056Z
UID:4749-1506643200-1506816000@mooreinstitute.ie
SUMMARY:Architecture at the Edge (AATE) | 'Placemaking' Symposium and Workshops
DESCRIPTION:Celebrating the Power of Architecture to Transform Lives \n\nArchitecture at the Edge (AATE) is a weekend celebration of exceptional architecture in the West of Ireland. Featuring a series of talks\, tours\, workshops and exhibitions\, the festival invites people of all ages to explore the built environment of their city and county.\nShowcasing some of the West of Ireland’s most outstanding architectural features\, this weekend-long festival offers an exciting opportunity to explore some of the hidden architectural gems of Galway and Mayo. Join a team of expert guides as they take you on a tour of homes\, buildings and spaces that are typically off limits. Architecture at the Edge will encourage a lively debate on standards of urban design\, planning and sustainability through public engagement in a variety of events. \nFor the full programme and list of events\, please check out the website link below. \nhttps://www.architectureattheedge.com/ \n  \n\n\n 
URL:https://mooreinstitute.ie/event/architecture-edge-aate-placemaking-symposium-workshops/
LOCATION:NUI Galway / Various locations in Galway
END:VEVENT
END:VCALENDAR