BEGIN:VCALENDAR
VERSION:2.0
PRODID:-//Moore Institute - ECPv6.0.0.1//NONSGML v1.0//EN
CALSCALE:GREGORIAN
METHOD:PUBLISH
X-ORIGINAL-URL:https://mooreinstitute.ie
X-WR-CALDESC:Events for Moore Institute
REFRESH-INTERVAL;VALUE=DURATION:PT1H
X-Robots-Tag:noindex
X-PUBLISHED-TTL:PT1H
BEGIN:VTIMEZONE
TZID:UTC
BEGIN:STANDARD
TZOFFSETFROM:+0000
TZOFFSETTO:+0000
TZNAME:UTC
DTSTART:20170101T000000
END:STANDARD
END:VTIMEZONE
BEGIN:VEVENT
DTSTART;TZID=UTC:20170919T130000
DTEND;TZID=UTC:20170919T140000
DTSTAMP:20260424T182101
CREATED:20170918T082649Z
LAST-MODIFIED:20170918T082649Z
UID:4673-1505826000-1505829600@mooreinstitute.ie
SUMMARY:EDEN - Teaching Advice Session
DESCRIPTION:Tuesday September 19th\, 1-2pm in the Bridge Room – Teaching Advice Session \nBring your lunch and yourselves to this lunchtime session on teaching advice\, hosted by EDEN. We will be joined by Dr. Miriam Haughton (Centre for Drama\, Theatre and Performance)\, Professor Lionel Pilkington (School of English)\, a representative from CELT (Centre of Excellence for Teaching and Learning)\, and Dr. Sarah Corrigan (Classics). They will be talking us through various aspects of teaching across disciplines and levels. There will be plenty of time for questions and please feel free to spread the word across disciplines. This is a great chance to give your teaching skills a boost at the start of the semester.  \n  \n 
URL:https://mooreinstitute.ie/event/eden-teaching-advice-session/
LOCATION:The Bridge\, Room 1001\, First Floor\, Hardiman Research Building
ORGANIZER;CN="EDEN":MAILTO:eden.nuigalway@gmail.com
END:VEVENT
END:VCALENDAR