BEGIN:VCALENDAR
VERSION:2.0
PRODID:-//Moore Institute - ECPv6.0.0.1//NONSGML v1.0//EN
CALSCALE:GREGORIAN
METHOD:PUBLISH
X-ORIGINAL-URL:https://mooreinstitute.ie
X-WR-CALDESC:Events for Moore Institute
REFRESH-INTERVAL;VALUE=DURATION:PT1H
X-Robots-Tag:noindex
X-PUBLISHED-TTL:PT1H
BEGIN:VTIMEZONE
TZID:Europe/Dublin
BEGIN:STANDARD
TZOFFSETFROM:+0000
TZOFFSETTO:+0100
TZNAME:IST
DTSTART:20140330T010000
END:STANDARD
BEGIN:DAYLIGHT
TZOFFSETFROM:+0100
TZOFFSETTO:+0000
TZNAME:GMT
DTSTART:20141026T010000
END:DAYLIGHT
END:VTIMEZONE
BEGIN:VEVENT
DTSTART;TZID=Europe/Dublin:20140124T120000
DTEND;TZID=Europe/Dublin:20140124T120000
DTSTAMP:20260419T145608
CREATED:20160824T134722Z
LAST-MODIFIED:20160824T134722Z
UID:2401-1390564800-1390564800@mooreinstitute.ie
SUMMARY:CAMPS Lab: Professor Ian Woods of the University of Leeds -  'Debating the Fall of Rome from the Ancien R̩gime to the creation of Late Antiquity'.
DESCRIPTION:This week’s CAMPS Lab will be delivered by Professor Ian Woods of the University of Leeds. \nHis title is:’Debating the Fall of Rome from the Ancien R̩gime to the creation of Late Antiquity’ \nFollowed by discussion and light lunch
URL:https://mooreinstitute.ie/event/camps-lab-professor-ian-woods-of-the-university-of-leeds-debating-the-fall-of-rome-from-the-ancien-r%cc%a9gime-to-the-creation-of-late-antiquity/
END:VEVENT
END:VCALENDAR