BEGIN:VCALENDAR
VERSION:2.0
PRODID:-//Moore Institute - ECPv6.0.0.1//NONSGML v1.0//EN
CALSCALE:GREGORIAN
METHOD:PUBLISH
X-WR-CALNAME:Moore Institute
X-ORIGINAL-URL:https://mooreinstitute.ie
X-WR-CALDESC:Events for Moore Institute
REFRESH-INTERVAL;VALUE=DURATION:PT1H
X-Robots-Tag:noindex
X-PUBLISHED-TTL:PT1H
BEGIN:VTIMEZONE
TZID:Europe/Dublin
BEGIN:STANDARD
TZOFFSETFROM:+0000
TZOFFSETTO:+0100
TZNAME:IST
DTSTART:20110327T010000
END:STANDARD
BEGIN:DAYLIGHT
TZOFFSETFROM:+0100
TZOFFSETTO:+0000
TZNAME:GMT
DTSTART:20111030T010000
END:DAYLIGHT
END:VTIMEZONE
BEGIN:VEVENT
DTSTART;TZID=Europe/Dublin:20110331T170000
DTEND;TZID=Europe/Dublin:20110331T170000
DTSTAMP:20260425T021757
CREATED:20160824T134643Z
LAST-MODIFIED:20160824T134643Z
UID:1825-1301590800-1301590800@mooreinstitute.ie
SUMMARY:Emily O'Flaherty & Orla Power on Caribbean Islands
DESCRIPTION:ECHO Humanities Research Forum: Emily O’Flaherty (NUIG) & Orla Power (NUIG) \nThursday 31st March @ 5pm >> Moore
URL:https://mooreinstitute.ie/event/emily-oflaherty-orla-power-on-caribbean-islands/
END:VEVENT
END:VCALENDAR