BEGIN:VCALENDAR
VERSION:2.0
PRODID:-//Moore Institute - ECPv6.0.0.1//NONSGML v1.0//EN
CALSCALE:GREGORIAN
METHOD:PUBLISH
X-WR-CALNAME:Moore Institute
X-ORIGINAL-URL:https://mooreinstitute.ie
X-WR-CALDESC:Events for Moore Institute
REFRESH-INTERVAL;VALUE=DURATION:PT1H
X-Robots-Tag:noindex
X-PUBLISHED-TTL:PT1H
BEGIN:VTIMEZONE
TZID:Europe/Dublin
BEGIN:STANDARD
TZOFFSETFROM:+0000
TZOFFSETTO:+0100
TZNAME:IST
DTSTART:20110327T010000
END:STANDARD
BEGIN:DAYLIGHT
TZOFFSETFROM:+0100
TZOFFSETTO:+0000
TZNAME:GMT
DTSTART:20111030T010000
END:DAYLIGHT
END:VTIMEZONE
BEGIN:VEVENT
DTSTART;TZID=Europe/Dublin:20110316T160000
DTEND;TZID=Europe/Dublin:20110316T160000
DTSTAMP:20260425T021758
CREATED:20160824T134641Z
LAST-MODIFIED:20160824T134641Z
UID:1815-1300291200-1300291200@mooreinstitute.ie
SUMMARY:France & the Gaelic Revival. The French Influence on Education in Ireland\,
DESCRIPTION:Ailbhe NÌ_ Ghearbhuigh \nFrance & the Gaelic Revival. The French Influence on Education in Ireland\,  \n1867-1900
URL:https://mooreinstitute.ie/event/france-the-gaelic-revival-the-french-influence-on-education-in-ireland/
END:VEVENT
END:VCALENDAR