BEGIN:VCALENDAR
VERSION:2.0
PRODID:-//Moore Institute - ECPv6.0.0.1//NONSGML v1.0//EN
CALSCALE:GREGORIAN
METHOD:PUBLISH
X-WR-CALNAME:Moore Institute
X-ORIGINAL-URL:https://mooreinstitute.ie
X-WR-CALDESC:Events for Moore Institute
REFRESH-INTERVAL;VALUE=DURATION:PT1H
X-Robots-Tag:noindex
X-PUBLISHED-TTL:PT1H
BEGIN:VTIMEZONE
TZID:Europe/Dublin
BEGIN:STANDARD
TZOFFSETFROM:+0000
TZOFFSETTO:+0100
TZNAME:IST
DTSTART:20110327T010000
END:STANDARD
BEGIN:DAYLIGHT
TZOFFSETFROM:+0100
TZOFFSETTO:+0000
TZNAME:GMT
DTSTART:20111030T010000
END:DAYLIGHT
END:VTIMEZONE
BEGIN:VEVENT
DTSTART;TZID=Europe/Dublin:20110308T160000
DTEND;TZID=Europe/Dublin:20110308T160000
DTSTAMP:20260425T021759
CREATED:20160824T134641Z
LAST-MODIFIED:20160824T134641Z
UID:1806-1299600000-1299600000@mooreinstitute.ie
SUMMARY:TCC Seminar Series: Dr. Vic Merriman\, Liverpool Hope University - 'Critical Faculties: Mediating Irish Theatre in a Troubled World'
DESCRIPTION:TCC Seminar Series: Dr. Vic Merriman\, Liverpool Hope University – ‘Critical Faculties: Mediating Irish Theatre in a Troubled World’
URL:https://mooreinstitute.ie/event/tcc-seminar-series-dr-vic-merriman-liverpool-hope-university-critical-faculties-mediating-irish-theatre-in-a-troubled-world/
END:VEVENT
END:VCALENDAR