BEGIN:VCALENDAR
VERSION:2.0
PRODID:-//Moore Institute - ECPv6.0.0.1//NONSGML v1.0//EN
CALSCALE:GREGORIAN
METHOD:PUBLISH
X-ORIGINAL-URL:https://mooreinstitute.ie
X-WR-CALDESC:Events for Moore Institute
REFRESH-INTERVAL;VALUE=DURATION:PT1H
X-Robots-Tag:noindex
X-PUBLISHED-TTL:PT1H
BEGIN:VTIMEZONE
TZID:Europe/Dublin
BEGIN:STANDARD
TZOFFSETFROM:+0000
TZOFFSETTO:+0100
TZNAME:IST
DTSTART:20110327T010000
END:STANDARD
BEGIN:DAYLIGHT
TZOFFSETFROM:+0100
TZOFFSETTO:+0000
TZNAME:GMT
DTSTART:20111030T010000
END:DAYLIGHT
END:VTIMEZONE
BEGIN:VEVENT
DTSTART;TZID=Europe/Dublin:20110209T160000
DTEND;TZID=Europe/Dublin:20110209T160000
DTSTAMP:20260425T040541
CREATED:20160824T134641Z
LAST-MODIFIED:20160824T134641Z
UID:1810-1297267200-1297267200@mooreinstitute.ie
SUMMARY:'Where Is She?' Researching the History of Female Entrepreneurs
DESCRIPTION:Therese Moylan \n‰Û÷Where Is She?’ Researching the History of Female Entrepreneurs  \nin mid-20th-c. Ireland
URL:https://mooreinstitute.ie/event/where-is-she-researching-the-history-of-female-entrepreneurs/
END:VEVENT
END:VCALENDAR