BEGIN:VCALENDAR
VERSION:2.0
PRODID:-//Moore Institute - ECPv6.0.0.1//NONSGML v1.0//EN
CALSCALE:GREGORIAN
METHOD:PUBLISH
X-WR-CALNAME:Moore Institute
X-ORIGINAL-URL:https://mooreinstitute.ie
X-WR-CALDESC:Events for Moore Institute
REFRESH-INTERVAL;VALUE=DURATION:PT1H
X-Robots-Tag:noindex
X-PUBLISHED-TTL:PT1H
BEGIN:VTIMEZONE
TZID:UTC
BEGIN:STANDARD
TZOFFSETFROM:+0000
TZOFFSETTO:+0000
TZNAME:UTC
DTSTART:20170101T000000
END:STANDARD
END:VTIMEZONE
BEGIN:VEVENT
DTSTART;TZID=UTC:20171207T120000
DTEND;TZID=UTC:20171207T130000
DTSTAMP:20260424T145151
CREATED:20171106T095039Z
LAST-MODIFIED:20171106T095039Z
UID:4950-1512648000-1512651600@mooreinstitute.ie
SUMMARY:"Office Hours" Drop-in Service
DESCRIPTION:For postgraduate research students and academic staff with questions or ideas about: \n\nUsing digital technologies to support research\nCommunicating and promoting their work\nAccessing funding to enable their work.\n\nMeet with staff from the Moore Institute\, Whitaker Institute\, NUI Galway Library and the Research Office. No appointment is necessary. \nFrom 12pm – 1pm in The Bridge\, Room 1001\, First Floor\, Hardiman Research Building.
URL:https://mooreinstitute.ie/event/office-hours-drop-service-8/
LOCATION:The Bridge Room 1001 First Floor Hardiman Research Building\, University of Galway\, Ireland
ATTACH;FMTTYPE=image/png:https://mooreinstitute.ie/wp-content/uploads/2017/09/open-hours-poster-no-times-2017-18.png
ORGANIZER;CN="David%20Kelly":MAILTO:david.d.kelly@nuigalway.ie
END:VEVENT
END:VCALENDAR