BEGIN:VCALENDAR
VERSION:2.0
PRODID:-//Moore Institute - ECPv6.0.0.1//NONSGML v1.0//EN
CALSCALE:GREGORIAN
METHOD:PUBLISH
X-WR-CALNAME:Moore Institute
X-ORIGINAL-URL:https://mooreinstitute.ie
X-WR-CALDESC:Events for Moore Institute
REFRESH-INTERVAL;VALUE=DURATION:PT1H
X-Robots-Tag:noindex
X-PUBLISHED-TTL:PT1H
BEGIN:VTIMEZONE
TZID:UTC
BEGIN:STANDARD
TZOFFSETFROM:+0000
TZOFFSETTO:+0000
TZNAME:UTC
DTSTART:20170101T000000
END:STANDARD
END:VTIMEZONE
BEGIN:VEVENT
DTSTART;VALUE=DATE:20171201
DTEND;VALUE=DATE:20171204
DTSTAMP:20260424T143419
CREATED:20171109T155626Z
LAST-MODIFIED:20171109T155716Z
UID:4961-1512086400-1512345599@mooreinstitute.ie
SUMMARY:Imbas Conference 'Misinterpretation and Misunderstanding of Late Antiquity and the Middle Ages'
DESCRIPTION:Imbas Conference ‘Misinterpretation and Misunderstanding of Late Antiquity and the Middle Ages’  \nDecember 1st-3rd\, G010\, Moore Institute\, NUI Galway \n  \nImbas is an annual interdisciplinary postgraduate conference focused on Late Antiquity and the Middle Ages. This year’s Keynote will be delivered by Prof. Dorothy Kim\, assistant Professor of English at Vassar College\, New York. \nhttps://www.nuigalway.ie/imbas/ \n  \n 
URL:https://mooreinstitute.ie/event/imbas-conference-misinterpretation-misunderstanding-late-antiquity-middle-ages/
LOCATION:Seminar Room GO10\, Ground Floor\, Hardiman Research Building
ORGANIZER;CN="Imbas%20Committee":MAILTO:imbasnuig@gmail.com
END:VEVENT
END:VCALENDAR