BEGIN:VCALENDAR
VERSION:2.0
PRODID:-//Moore Institute - ECPv6.0.0.1//NONSGML v1.0//EN
CALSCALE:GREGORIAN
METHOD:PUBLISH
X-WR-CALNAME:Moore Institute
X-ORIGINAL-URL:https://mooreinstitute.ie
X-WR-CALDESC:Events for Moore Institute
REFRESH-INTERVAL;VALUE=DURATION:PT1H
X-Robots-Tag:noindex
X-PUBLISHED-TTL:PT1H
BEGIN:VTIMEZONE
TZID:UTC
BEGIN:STANDARD
TZOFFSETFROM:+0000
TZOFFSETTO:+0000
TZNAME:UTC
DTSTART:20170101T000000
END:STANDARD
END:VTIMEZONE
BEGIN:VEVENT
DTSTART;TZID=UTC:20171127T110000
DTEND;TZID=UTC:20171127T120000
DTSTAMP:20260424T143419
CREATED:20171126T190033Z
LAST-MODIFIED:20171126T190033Z
UID:4989-1511780400-1511784000@mooreinstitute.ie
SUMMARY:Agresso Information Session for Students\, Postdoctoral Fellows & Budget Holders
DESCRIPTION:Staff from the Accounting Office will give an information session on the new requirements for purchasing and claiming expenses.
URL:https://mooreinstitute.ie/event/agresso-information-session-students-postdoctoral-fellows-budget-holders/
LOCATION:Seminar Room G010\, Hardiman Research Building
ORGANIZER;CN="Martha%20Shaughnessy":MAILTO:martha.shaughnessy@universityofgalway.ie
END:VEVENT
END:VCALENDAR