BEGIN:VCALENDAR
VERSION:2.0
PRODID:-//Moore Institute - ECPv6.0.0.1//NONSGML v1.0//EN
CALSCALE:GREGORIAN
METHOD:PUBLISH
X-WR-CALNAME:Moore Institute
X-ORIGINAL-URL:https://mooreinstitute.ie
X-WR-CALDESC:Events for Moore Institute
REFRESH-INTERVAL;VALUE=DURATION:PT1H
X-Robots-Tag:noindex
X-PUBLISHED-TTL:PT1H
BEGIN:VTIMEZONE
TZID:UTC
BEGIN:STANDARD
TZOFFSETFROM:+0000
TZOFFSETTO:+0000
TZNAME:UTC
DTSTART:20170101T000000
END:STANDARD
END:VTIMEZONE
BEGIN:VEVENT
DTSTART;TZID=UTC:20171107T200000
DTEND;TZID=UTC:20171111T200000
DTSTAMP:20260424T145151
CREATED:20171103T125114Z
LAST-MODIFIED:20171103T150910Z
UID:4938-1510084800-1510430400@mooreinstitute.ie
SUMMARY:'The Millionairess' by George Bernard Shaw
DESCRIPTION:The O’Donoghue Centre for Drama\, Theatre and Performance Studies present: \nThe Millionairess by George Bernard Shaw \nDirected by: Aisling Smith \nWith: Lucy Pollock\, Stephen Burke\, Rebecca Spelman Barry McNamara\, Sean Gandolfini\, Narain Viswanathan\, Patrick O’Malley\, Patrice Mc Conway\, and Sabrina Kelleher \nPlaying at The O’Donoghue Theatre\, NUI Galway\, at 8pm nightly Wednesday 7th – Saturday 11th Nov\, 2017. Tickets: €12/Concession €7\, available at socsbox NUIG campus\, and at the door \n \nShaw’s 1936 comedy\, The Millionairess\, is fast paced and absolutely absurd. \nEpifania’s life is falling apart. Yes\, she’s still the richest woman in England; but her rotten husband is trying to divorce her for a lowly woman who enjoys taking care of him. On top of that her fancy man is trying to marry her. The only thing she’s really good at is making money\, but money doesn’t heal a lonely heart. Will she find a man that can pass her test? Will he want to? \nAisling Smith is a PhD student in the O’Donoghue Centre for Drama\, Theatre\, and Performance\, NUI Galway. This intermedia production of Shaw’s classic play is produced as part of her PhD thesis; which focuses on re-imagining the plays of George Bernard Shaw for contemporary audiences through practice as research.
URL:https://mooreinstitute.ie/event/millionairess-george-bernard-shaw/
LOCATION:The O’Donoghue Centre for Drama\, Theatre and Performance at NUI Galway\, Ireland
ORGANIZER;CN="O%27Donoghue%20Centre%20for%20drama%20theatre%20and%20performance":MAILTO:themillionairess2017@gmail.com
END:VEVENT
END:VCALENDAR