BEGIN:VCALENDAR
VERSION:2.0
PRODID:-//Moore Institute - ECPv6.0.0.1//NONSGML v1.0//EN
CALSCALE:GREGORIAN
METHOD:PUBLISH
X-WR-CALNAME:Moore Institute
X-ORIGINAL-URL:https://mooreinstitute.ie
X-WR-CALDESC:Events for Moore Institute
REFRESH-INTERVAL;VALUE=DURATION:PT1H
X-Robots-Tag:noindex
X-PUBLISHED-TTL:PT1H
BEGIN:VTIMEZONE
TZID:UTC
BEGIN:STANDARD
TZOFFSETFROM:+0000
TZOFFSETTO:+0000
TZNAME:UTC
DTSTART:20170101T000000
END:STANDARD
END:VTIMEZONE
BEGIN:VEVENT
DTSTART;TZID=UTC:20170719T200000
DTEND;TZID=UTC:20170719T213000
DTSTAMP:20260424T174711
CREATED:20170714T124233Z
LAST-MODIFIED:20170714T124233Z
UID:4536-1500494400-1500499800@mooreinstitute.ie
SUMMARY:War & Revolution: Galway Centenary Conversations
DESCRIPTION:The final event in the War & Revolution: Galway Centenary Conversations\, public history lecture series takes place in Clarin College\, Athenry on Wednesday 19 July at 8 pm. Conor McNamara and Martin O’Donoghue of the Moore Institute will be among a panel of speakers discussing the geography of revolution in County Galway\, 1917-21.  \nEvent is free and all are welcome. \n  \n 
URL:https://mooreinstitute.ie/event/war-revolution-galway-centenary-conversations/
LOCATION:Clarin College\, Athenry\, Ireland
ORGANIZER;CN="Conor%20McNamara":MAILTO:conor.mcnamara@nuigalway.ie 
END:VEVENT
END:VCALENDAR