BEGIN:VCALENDAR
VERSION:2.0
PRODID:-//Moore Institute - ECPv6.0.0.1//NONSGML v1.0//EN
CALSCALE:GREGORIAN
METHOD:PUBLISH
X-WR-CALNAME:Moore Institute
X-ORIGINAL-URL:https://mooreinstitute.ie
X-WR-CALDESC:Events for Moore Institute
REFRESH-INTERVAL;VALUE=DURATION:PT1H
X-Robots-Tag:noindex
X-PUBLISHED-TTL:PT1H
BEGIN:VTIMEZONE
TZID:UTC
BEGIN:STANDARD
TZOFFSETFROM:+0000
TZOFFSETTO:+0000
TZNAME:UTC
DTSTART:20170101T000000
END:STANDARD
END:VTIMEZONE
BEGIN:VEVENT
DTSTART;TZID=UTC:20170705T100000
DTEND;TZID=UTC:20170705T130000
DTSTAMP:20260424T174711
CREATED:20170704T092244Z
LAST-MODIFIED:20170704T092244Z
UID:4519-1499248800-1499259600@mooreinstitute.ie
SUMMARY:The Power of Listening Workshop
DESCRIPTION:All Welcome!
URL:https://mooreinstitute.ie/event/power-listening-workshop/
LOCATION:The Bridge\, Room 1001\, First Floor\, Hardiman Research Building
ORGANIZER;CN="Emer%20Casey":MAILTO:emer.casey@nuigalway.ie
END:VEVENT
END:VCALENDAR