BEGIN:VCALENDAR
VERSION:2.0
PRODID:-//Moore Institute - ECPv4.6.1//NONSGML v1.0//EN
CALSCALE:GREGORIAN
METHOD:PUBLISH
X-WR-CALNAME:Moore Institute
X-ORIGINAL-URL:http://mooreinstitute.ie
X-WR-CALDESC:Events for Moore Institute
BEGIN:VEVENT
DTSTART;TZID=UTC+0:20170628T110000
DTEND;TZID=UTC+0:20170628T133000
DTSTAMP:20171031T054453
CREATED:20170623T142100Z
LAST-MODIFIED:20170623T144410Z
UID:4506-1498647600-1498656600@mooreinstitute.ie
SUMMARY:"Remembering Margaret Heavey" a 'Path Breaking Women' Event
DESCRIPTION:As part of the Path Breaking Women Exhibition\, you are warmly invited to “Remembering Margaret Heavey”. \nWith keynote presentation by Dr Pádraic Moran\, lecturer in Classics NUI Galway\, followed by a roundtable discussion on the many contributions of Margaret Heavey as a classics scholar\, educationalist and long-time member of the NUI Galway community. \nAll welcome! \n
URL:http://mooreinstitute.ie/event/remembering-margaret-heavey-path-breaking-women-event/
ORGANIZER;CN="Lydia%20Kelly":MAILTO:lydia.kelly@nuigalway.ie
END:VEVENT
BEGIN:VEVENT
DTSTART;TZID=UTC+0:20170628T200000
DTEND;TZID=UTC+0:20170628T200000
DTSTAMP:20171031T054453
CREATED:20170624T185902Z
LAST-MODIFIED:20170624T185902Z
UID:4513-1498680000-1498680000@mooreinstitute.ie
SUMMARY:Galway Centenary Conversations -a series of free public history events organised by the Moore Institute in conjunction with the Galway County Council
DESCRIPTION:Galway Centenary Conversations – a series of free public history events organised by the Moore Institute in conjunction with the Galway County Council takes places in the Station House Theatre\, Clifden on Wednesday 28 June\, at 8pm.  Topics to be examined this week include the aftermath of the 1916 Rebellion; the conscription crisis of 1918 and the 1918 General Election. Speakers include Dr Conor McNamara (Moore Institute); Kathleen Villiers-Tuthill (author) and Micheal Micheal O Fatharthaigh (DBS). Contact Dr Conor McNamara for further details: conor.mcnamara@nuigalway.ie \n
URL:http://mooreinstitute.ie/event/galway-centenary-conversations-series-free-public-history-events-organised-moore-institute-conjunction-galway-county-council/
ORGANIZER;CN="Conor%20McNamara":MAILTO:conor.mcnamara@nuigalway.ie 
END:VEVENT
END:VCALENDAR