BEGIN:VCALENDAR
VERSION:2.0
PRODID:-//Moore Institute - ECPv4.6.1//NONSGML v1.0//EN
CALSCALE:GREGORIAN
METHOD:PUBLISH
X-WR-CALNAME:Moore Institute
X-ORIGINAL-URL:http://mooreinstitute.ie
X-WR-CALDESC:Events for Moore Institute
BEGIN:VEVENT
DTSTART;TZID=UTC+0:20170525T080000
DTEND;TZID=UTC+0:20170526T170000
DTSTAMP:20171031T142738
CREATED:20170518T080804Z
LAST-MODIFIED:20170518T130321Z
UID:4311-1495699200-1495818000@mooreinstitute.ie
SUMMARY:Conference: ‘Translation Meets Book History: Intersections 1700-1900’
DESCRIPTION: \n  \nThis two-day international conference aims at exploring and further promoting the complementarity between translation and book history with a particular focus on the international publishing panorama of the eighteenth and nineteenth centuries. \n\nKeynote Speaker: Norbert Bachleitner (Universität Wien) \nProvisional programme and other information available on the conference website https://intersections2017.wordpress.com/ \n  \n  \n
URL:http://mooreinstitute.ie/event/conference-translation-meets-book-history-intersections-1700-1900/
ORGANIZER;CN="Dr.%20Alice%20Colombo":MAILTO:alice.colombo@nuigalway.ie 
END:VEVENT
END:VCALENDAR