BEGIN:VCALENDAR
VERSION:2.0
PRODID:-//Moore Institute - ECPv6.0.0.1//NONSGML v1.0//EN
CALSCALE:GREGORIAN
METHOD:PUBLISH
X-WR-CALNAME:Moore Institute
X-ORIGINAL-URL:https://mooreinstitute.ie
X-WR-CALDESC:Events for Moore Institute
REFRESH-INTERVAL;VALUE=DURATION:PT1H
X-Robots-Tag:noindex
X-PUBLISHED-TTL:PT1H
BEGIN:VTIMEZONE
TZID:UTC
BEGIN:STANDARD
TZOFFSETFROM:+0000
TZOFFSETTO:+0000
TZNAME:UTC
DTSTART:20170101T000000
END:STANDARD
END:VTIMEZONE
BEGIN:VEVENT
DTSTART;TZID=UTC:20170511T090000
DTEND;TZID=UTC:20170512T180000
DTSTAMP:20260424T165641
CREATED:20170111T115919Z
LAST-MODIFIED:20170111T115919Z
UID:3259-1494493200-1494612000@mooreinstitute.ie
SUMMARY:Conference -Other Codes/Cóid Eile - Digital Literatures in Context
DESCRIPTION:The Moore Institute for Research in the Humanities and Social Studies at NUI Galway will host the international conference Other Codes / Cóid Eile –  Digital Literatures in Context.  The event focuses on the various contexts of the production\, dissemination and reception of digital literature in its different forms\, as well as the cultural\, national\, geographical and institutional settings within which digital literary practice takes place. Invited speakers include Sandy Baldwin from the Rochester Institute of Technology (US)\, María Mencía from Kingston University\, London (UK)\, Jessica Pressman from San Diego State University (US)\, and Scott Rettberg from the University of Bergen (Norway). The event is the first Galway Digital Cultures Initiative conference and is funded by the Irish Research Council and the European Commission via Marie Skłodowska-Curie Actions. \n  \nContact: anne.karhio@nuigalway.ie \nWeb: https://othercodes.wordpress.com” \n 
URL:https://mooreinstitute.ie/event/conference-codescoid-eile-digital-literatures-context/
LOCATION:Seminar Room GO10\, Ground Floor\, Hardiman Research Building
ORGANIZER;CN="":MAILTO:anne.karhio@nuigalway.ie
END:VEVENT
END:VCALENDAR