BEGIN:VCALENDAR
VERSION:2.0
PRODID:-//Moore Institute - ECPv6.0.0.1//NONSGML v1.0//EN
CALSCALE:GREGORIAN
METHOD:PUBLISH
X-WR-CALNAME:Moore Institute
X-ORIGINAL-URL:https://mooreinstitute.ie
X-WR-CALDESC:Events for Moore Institute
REFRESH-INTERVAL;VALUE=DURATION:PT1H
X-Robots-Tag:noindex
X-PUBLISHED-TTL:PT1H
BEGIN:VTIMEZONE
TZID:UTC
BEGIN:STANDARD
TZOFFSETFROM:+0000
TZOFFSETTO:+0000
TZNAME:UTC
DTSTART:20170101T000000
END:STANDARD
END:VTIMEZONE
BEGIN:VEVENT
DTSTART;TZID=UTC:20170509T080000
DTEND;TZID=UTC:20170510T120000
DTSTAMP:20260424T165719
CREATED:20170509T134316Z
LAST-MODIFIED:20170509T134738Z
UID:4278-1494316800-1494417600@mooreinstitute.ie
SUMMARY:“Ireland\, America and Empire in the Age of Jefferson”
DESCRIPTION:Programme \n  \nTuesday\, May 8\, 2017 \n10:00 am \nSession I \nNicholas Canny: “Atlantic Empire and the Peoples of the British Monarchy\, 1603-1815” \nAlison Games: “Massacres\, Memories and Empire: The Amboyna Incident’s Long History” \n  \n10:45 am \nSession II \nJane Ohlmeyer: “Ireland and the Wider World in the Early Modern Period” \nMax Edelson: “Mapping Empire: Geographic Information and the British Imperial State in the Eighteenth Century” \n  \n1:45 pm \nSession III: \nDaniel Carey: “The Scottish Englightenment and the Problems of Slavery: To the New World and Back in the Eighteenth Century” \nRobert Ingram: “The Very Long Reformation” \n  \nWednesday\, May 9\, 2017 \n9:00 am \nSession IV \nRachel Banke: “Satire and Substance: Lord Bute in the Revolutionary Imagination” \nHarry Dickinson: “The Irreconcilable Dispute on Sovereignty During the American Revolution”
URL:https://mooreinstitute.ie/event/ireland-america-empire-age-jefferson/
LOCATION:Seminar Room G010
ORGANIZER;CN="Martha%20Shaughnessy":MAILTO:martha.shaughnessy@universityofgalway.ie
END:VEVENT
BEGIN:VEVENT
DTSTART;TZID=UTC:20170509T100000
DTEND;TZID=UTC:20170509T120000
DTSTAMP:20260424T165719
CREATED:20170410T101313Z
LAST-MODIFIED:20170410T101313Z
UID:4138-1494324000-1494331200@mooreinstitute.ie
SUMMARY:MA Students Presentations
DESCRIPTION:Students in MA Medieval Studies will be presenting their dissertation projects for comment and feedback in Room 1001 “The Bridge” on Tuesday\, May 9th 10-12pm. \nAll welcome!
URL:https://mooreinstitute.ie/event/ma-students-presentations/
LOCATION:The Bridge Room 1001 First Floor Hardiman Research Building\, University of Galway\, Ireland
ORGANIZER;CN="Kimberly%20LoPrete":MAILTO:kim.loprete@nuigalway.ie
END:VEVENT
END:VCALENDAR