BEGIN:VCALENDAR
VERSION:2.0
PRODID:-//Moore Institute - ECPv4.6.1//NONSGML v1.0//EN
CALSCALE:GREGORIAN
METHOD:PUBLISH
X-WR-CALNAME:Moore Institute
X-ORIGINAL-URL:http://mooreinstitute.ie
X-WR-CALDESC:Events for Moore Institute
BEGIN:VEVENT
DTSTART;TZID=UTC+0:20160620T110000
DTEND;TZID=UTC+0:20160620T110000
DTSTAMP:20171102T083302
CREATED:20160824T144652Z
LAST-MODIFIED:20160824T144652Z
UID:1943-1466420400-1466420400@mooreinstitute.ie
SUMMARY:Moore Institute Visiting Fellow\, Dr Salvatore Scifo 'The origins and development of community radio in Britain under New Labour (1997 - 2007)'.
DESCRIPTION:Moore Institute Visiting Fellow\, Dr Salvatore Scifo presents a talk : \n‘ The origins and development of community radio in Britain under New Labour (1997 – 2007)’. \nMonday\, 20th June @ 11am in The Bridge\, First Floor\, Hardiman Research Building. \n
URL:http://mooreinstitute.ie/event/moore-institute-visiting-fellow-dr-salvatore-scifo-the-origins-and-development-of-community-radio-in-britain-under-new-labour-1997-2007/
END:VEVENT
END:VCALENDAR