BEGIN:VCALENDAR
VERSION:2.0
PRODID:-//Moore Institute - ECPv4.6.1//NONSGML v1.0//EN
CALSCALE:GREGORIAN
METHOD:PUBLISH
X-WR-CALNAME:Moore Institute
X-ORIGINAL-URL:http://mooreinstitute.ie
X-WR-CALDESC:Events for Moore Institute
BEGIN:VEVENT
DTSTART;TZID=UTC+0:20160610T090000
DTEND;TZID=UTC+0:20160610T090000
DTSTAMP:20171102T083214
CREATED:20160824T144651Z
LAST-MODIFIED:20160824T144651Z
UID:1936-1465549200-1465549200@mooreinstitute.ie
SUMMARY:'The Next Eighteenth - Century Ireland Society/ An Cumann ÌÄåäire San OchtÌÄå¼ C̩ad D̩ag' Annual Conference
DESCRIPTION:The next Eighteenth-Century Ireland Society  / An Cumann Ìäire San Ocht̼ C̩ad D̩ag Annual Conference will be held in National University of Ireland Galway\, 10-11 June 2016.  \nPlenaries will be delivered by Prof. Michael Brown (Aberdeen)\, Prof. Norma Clark (Kingston)\, and Dr MeidhbhÌ_n NÌ_ Ì_rdail (UCD). \nHarvard University Press will also mark the Irish launches of Michael Brown’s The Irish Enlightenment (2016) and Norma Clarke’s Brothers of the Quill: Oliver Goldsmith in Grub Street (2016)at the conference. \nThe conference is organised by Dr Rebecca Barr (English\, Humanities) and Dr Lesa NÌ_ Mhunghaile (Gaeilge\, Scoil na dTeangacha\, na LitrÌ_ochtaÌ_ & na gCult̼r). The event is generously supported by the Moore Institute\, NUI Galway School of Humanities\, and the School of Languages\, Literatures and Cultures. \nConference programme and registration details can be found at the following link: http://www.ecis.ie/annual-conference/ \n
URL:http://mooreinstitute.ie/event/the-next-eighteenth-century-ireland-society-an-cumann-iaaaire-san-ochtiaa%c2%bc-c%cc%a9ad-d%cc%a9ag-annual-conference/
END:VEVENT
END:VCALENDAR