BEGIN:VCALENDAR
VERSION:2.0
PRODID:-//Moore Institute - ECPv4.6.1//NONSGML v1.0//EN
CALSCALE:GREGORIAN
METHOD:PUBLISH
X-WR-CALNAME:Moore Institute
X-ORIGINAL-URL:http://mooreinstitute.ie
X-WR-CALDESC:Events for Moore Institute
BEGIN:VEVENT
DTSTART;TZID=UTC+0:20151015T130000
DTEND;TZID=UTC+0:20151015T130000
DTSTAMP:20171103T034044
CREATED:20160824T144654Z
LAST-MODIFIED:20160824T144654Z
UID:1992-1444914000-1444914000@mooreinstitute.ie
SUMMARY:Journalism guest speaker series: Dr. Ellen Culloty\, DCU -Environmental reporting in Irish media
DESCRIPTION:Journalism Guest Speaker Series\nDr. Ellen Culloty\,\nDCU\nTopic: Environmental reporting in Irish media\nEileen Culloty is a research assistant on the EPA-funded Climate Change Reporting in Ireland research project at the Institute for Future Media & Journalism at Dublin City University. She holds a PhD in Communication and Media Studies from DCU\, where her PhD project was on the topic of: ‰Û÷Embedded Online: Iraq War documentaries In The Online Public Sphere’. She also teaches in media at the School of Communications at DCU. \nFor more information please contact Andrew.obaoill@nuigalway.ie \n
URL:http://mooreinstitute.ie/event/journalism-guest-speaker-series-dr-ellen-culloty-dcu-environmental-reporting-in-irish-media/
END:VEVENT
BEGIN:VEVENT
DTSTART;TZID=UTC+0:20151015T163000
DTEND;TZID=UTC+0:20151015T163000
DTSTAMP:20171103T034044
CREATED:20160824T144658Z
LAST-MODIFIED:20160824T144658Z
UID:2027-1444926600-1444926600@mooreinstitute.ie
SUMMARY:EDEN (English and Drama Exchange Network)\, a student-led research exchange network for English and Drama postgraduate students
DESCRIPTION:EDEN (English and Drama Exchange Network)\,\na student-led research exchange network for\nEnglish and Drama postgraduate students\nFor more information please contact Justine Nakase at j.nakase1@nuigalway.ie \n
URL:http://mooreinstitute.ie/event/eden-english-and-drama-exchange-network-a-student-led-research-exchange-network-for-english-and-drama-postgraduate-students-2/
END:VEVENT
END:VCALENDAR