BEGIN:VCALENDAR
VERSION:2.0
PRODID:-//Moore Institute - ECPv4.6.1//NONSGML v1.0//EN
CALSCALE:GREGORIAN
METHOD:PUBLISH
X-WR-CALNAME:Moore Institute
X-ORIGINAL-URL:http://mooreinstitute.ie
X-WR-CALDESC:Events for Moore Institute
BEGIN:VEVENT
DTSTART;TZID=UTC+0:20151001T130000
DTEND;TZID=UTC+0:20151001T130000
DTSTAMP:20171103T034400
CREATED:20160824T144655Z
LAST-MODIFIED:20160824T144655Z
UID:2005-1443704400-1443704400@mooreinstitute.ie
SUMMARY:Threesis 2015 Heat 2: Informatics\, Data Analytics\, Physical and Computational Sciences
DESCRIPTION:THREESIS: Open Your Mind…and Get to the Point!!\nJoin us as NUI Galway researchers use their 3 minutes to Get to the Point and Open Your Mind! \nCome along and support your colleagues! \nThreesis 2015 Heat 2: Informatics\, Data Analytics\, Physical and Computational Sciences \nFor more information please contact ena.brophy@nuigalway.ie \n
URL:http://mooreinstitute.ie/event/threesis-2015-heat-2-informatics-data-analytics-physical-and-computational-sciences/
LOCATION:Ireland
END:VEVENT
END:VCALENDAR