BEGIN:VCALENDAR
VERSION:2.0
PRODID:-//Moore Institute - ECPv4.6.1//NONSGML v1.0//EN
CALSCALE:GREGORIAN
METHOD:PUBLISH
X-WR-CALNAME:Moore Institute
X-ORIGINAL-URL:http://mooreinstitute.ie
X-WR-CALDESC:Events for Moore Institute
BEGIN:VEVENT
DTSTART;TZID=UTC+0:20150928T130000
DTEND;TZID=UTC+0:20150928T130000
DTSTAMP:20171103T034241
CREATED:20160824T144655Z
LAST-MODIFIED:20160824T144655Z
UID:2003-1443445200-1443445200@mooreinstitute.ie
SUMMARY:Threesis 2015 Heat 1: Biomedical Science and Engineering
DESCRIPTION:THREESIS: Open Your Mind…and Get to the Point!!\nJoin us as NUI Galway researchers use their 3 minutes to Get to the Point and Open Your Mind! \nCome along and support your colleagues! \nThreesis 2015 Heat 1: Biomedical Science and Engineering \nFor more information please contact ena.brophy@nuigalway.ie \n
URL:http://mooreinstitute.ie/event/threesis-2015-heat-1-biomedical-science-and-engineering/
LOCATION:Ireland
END:VEVENT
END:VCALENDAR