BEGIN:VCALENDAR
VERSION:2.0
PRODID:-//Moore Institute - ECPv4.6.1//NONSGML v1.0//EN
CALSCALE:GREGORIAN
METHOD:PUBLISH
X-WR-CALNAME:Moore Institute
X-ORIGINAL-URL:http://mooreinstitute.ie
X-WR-CALDESC:Events for Moore Institute
BEGIN:VEVENT
DTSTART;TZID=UTC+0:20101206T130000
DTEND;TZID=UTC+0:20101206T130000
DTSTAMP:20171102T081632
CREATED:20160824T144640Z
LAST-MODIFIED:20160824T144640Z
UID:1798-1291640400-1291640400@mooreinstitute.ie
SUMMARY:The Culture of Postmodernism 1
DESCRIPTION:‘The Culture of Postmodernism 1’ will be given by Terry Eagleton\, Adjunct Professor of Cultural Theory in the Moore Institute. ‘The Culture of Postmodernism 2’ will take place on Wednesday\, December 8 at 4pm. \nProf. Eagleton will also give a Public Lecture entitled ‘Aesthetics and Politics: Broken Images’ on Tuesday\, December 7\, 2010 at 2:30pm. \nAll events will take place in the Moore Institute seminar room. \n
URL:http://mooreinstitute.ie/event/the-culture-of-postmodernism-1/
END:VEVENT
END:VCALENDAR