BEGIN:VCALENDAR
VERSION:2.0
PRODID:-//Moore Institute - ECPv4.6.1//NONSGML v1.0//EN
CALSCALE:GREGORIAN
METHOD:PUBLISH
X-WR-CALNAME:Moore Institute
X-ORIGINAL-URL:http://mooreinstitute.ie
X-WR-CALDESC:Events for Moore Institute
BEGIN:VEVENT
DTSTART;TZID=UTC+0:20170321T140000
DTEND;TZID=UTC+0:20170321T160000
DTSTAMP:20171031T053548
CREATED:20170220T161547Z
LAST-MODIFIED:20170316T100034Z
UID:3728-1490104800-1490112000@mooreinstitute.ie
SUMMARY:Seminar by Visiting Speaker Prof. Michael Rubenstein '“Life Support: Fictions of Energy and Environment”
DESCRIPTION:Michael Rubenstein is an associate professor of English at Stony Brook University\, where he teaches courses on postwar Anglophone literatures\, film\, Irish modernism\, James Joyce\, and the Environmental Humanities. His book\, Public Works: Infrastructure\, Irish Modernism\, and the Postcolonial (University of Notre Dame Press\, 2010)\, received the Modernist Studies Association Prize and the American Conference for Irish Studies Robert Rhodes Prize. His current book project is called Life Support: Fictions of Energy and Environment. \n
URL:http://mooreinstitute.ie/event/seminar-visiting-speaker-prof-michael-rubenstein-life-support-fictions-energy-environment/
ATTACH;FMTTYPE=image/jpeg:http://mooreinstitute.ie/wp-content/uploads/2017/02/Rubenstein.jpg
ORGANIZER;CN="Lionel%20Pilkington":MAILTO:lionel.pilkington@nuigalway.ie
END:VEVENT
END:VCALENDAR