BEGIN:VCALENDAR
VERSION:2.0
PRODID:-//Moore Institute - ECPv4.6.1//NONSGML v1.0//EN
CALSCALE:GREGORIAN
METHOD:PUBLISH
X-WR-CALNAME:Moore Institute
X-ORIGINAL-URL:http://mooreinstitute.ie
X-WR-CALDESC:Events for Moore Institute
BEGIN:VEVENT
DTSTART;TZID=UTC+0:20101203T141500
DTEND;TZID=UTC+0:20101203T141500
DTSTAMP:20171102T080153
CREATED:20160824T144640Z
LAST-MODIFIED:20160824T144640Z
UID:1796-1291385700-1291385700@mooreinstitute.ie
SUMMARY:Religion\, Gender\, and Empire Politics in the French Space during the Seventeenth and Eighteenth centuries
DESCRIPTION:Professor Dominique Deslandres (University of Montreal) \nDominique Deslandres is Professeur Titulaire of History at the University of Montreal.  She has published two monographs on French Catholic mission and settlement in seventeenth- and eighteenth-century Canada\, and has a particular interest in the socio-religious history of the Jesuits and the Oratorians.  She is now working on the ‘cultures of memory’ in settler societies\, and has a particular interest in issues relating to conversion\, race and blood in eighteenth-century Canada and France. \n
URL:http://mooreinstitute.ie/event/religion-gender-and-empire-politics-in-the-french-space-during-the-seventeenth-and-eighteenth-centuries/
END:VEVENT
END:VCALENDAR