BEGIN:VCALENDAR
VERSION:2.0
PRODID:-//Moore Institute - ECPv4.6.1//NONSGML v1.0//EN
CALSCALE:GREGORIAN
METHOD:PUBLISH
X-WR-CALNAME:Moore Institute
X-ORIGINAL-URL:http://mooreinstitute.ie
X-WR-CALDESC:Events for Moore Institute
BEGIN:VEVENT
DTSTART;TZID=UTC+0:20160616T160000
DTEND;TZID=UTC+0:20160616T160000
DTSTAMP:20171102T083559
CREATED:20160824T144651Z
LAST-MODIFIED:20160824T144651Z
UID:1939-1466092800-1466092800@mooreinstitute.ie
SUMMARY:Prof Peter Glazer (University of Berkeley) and Patrick Ball (Musician)\, Moore Institute Visiting Fellows present ' Musics of a Lost Kingdom: Yeats\, Story and Song'.
DESCRIPTION:Prof. Peter Glazer (Berkeley) and Patrick Ball (musician) \n‰Û÷Musics of a Lost Kingdom:  \nYeats\, Story and Song’ \nThe remarkable\, crystalline sound of the wire strung harp (the clÌÊrsach) was at the centre of Irish culture and legend for 700 years\, most famously in the playing of Turlough O’Carolan. Yet it was wholly absent from the Celtic Revival. This talk investigates how the clÌÊrsach might help illuminate Yeats’s stories and poetry. Patrick Ball and Peter Glazer will discuss their collaboration to develop a performance piece on this subject\, with demonstrations of the harp by Patrick. \n 4pm Thursday 16 June \nBridge Seminar Room\, 1001 \nHardiman Research Building \n
URL:http://mooreinstitute.ie/event/prof-peter-glazer-university-of-berkeley-and-patrick-ball-musician-moore-institute-visiting-fellows-present-musics-of-a-lost-kingdom-yeats-story-and-song/
END:VEVENT
END:VCALENDAR