BEGIN:VCALENDAR
VERSION:2.0
PRODID:-//Moore Institute - ECPv4.6.1//NONSGML v1.0//EN
CALSCALE:GREGORIAN
METHOD:PUBLISH
X-WR-CALNAME:Moore Institute
X-ORIGINAL-URL:http://mooreinstitute.ie
X-WR-CALDESC:Events for Moore Institute
BEGIN:VEVENT
DTSTART;TZID=UTC+0:20100925T103000
DTEND;TZID=UTC+0:20100925T103000
DTSTAMP:20171102T081555
CREATED:20160824T144639Z
LAST-MODIFIED:20160824T144639Z
UID:1764-1285410600-1285410600@mooreinstitute.ie
SUMMARY:(Post) Imperial Cultures
DESCRIPTION:(Post) Imperial Cultures \nSymposium at the Moore Institute for Research in the Humanities and Social Studies\, National University of Ireland\, Galway\, in association with the English Department and Texts\, Contexts\, Cultures \n \n“Download full size poster” \nSaturday 25th September 2010 \n \n(Post) Imperial Cultures is a one day symposium designed to discuss questions of aesthetics and representation in context of contemporary theory of empire and the transnational. The symposium will include a panel and roundtable discussion on (post) imperial cultures\, with contributions from Terence Brown (Trinity College Dublin)\, Moynagh Sullivan (National University of Ireland\, Maynooth)\, and others. Areas to be considered include the relationship of culture to representation during and after empire; poetry and the transnational; modernism and the global. \nKeynote Lectures \nJahan Ramazani (University of Virginia)\, ‘Transnationalizing Poetics’ \nJoe Cleary (National University of Ireland\, Maynooth)\, ‘England’s Difficulty: Modernism\, Imperialism and the Literary World System\, 1890-1940’ \nFor further details and a schedule of events please see http://www.nuigalway.ie/mooreinstitute \nTo register for this free symposium please email Marie Kennedy marie.kennedy@nuigalway.ie \n(Post) Imperial Cultures  \nSymposium at the Moore Institute for Research in the Humanities and Social Studies\, National University of Ireland\, Galway\, in association with the English Department and Texts\, Contexts\, Cultures \nSaturday 25th September 2010 \n10.30-11am \nCoffee and welcome \n11am-12pm \nJoe Cleary (National University of Ireland\, Maynooth)\, ‘England’s Difficulty: Modernism\, Imperialism and the Literary World System\, 1890-1940’ \n12-1pm \nPanel on (Post) Imperial Cultures including Moynagh Sullivan 9national University of Ireland\, Maynooth)\, Nicholas Allen (National University of Ireland\, Galway) and Terence Brown (Trinity College Dublin) \n1-2pm \nLunch \n2-3pm \nJahan Ramazani (University of Virginia)\, ‘Transnationalizing Poetics’ \n3-4pm \nRoundtable discussion including graduate students and close \n
URL:http://mooreinstitute.ie/event/post-imperial-cultures/
END:VEVENT
END:VCALENDAR