BEGIN:VCALENDAR
VERSION:2.0
PRODID:-//Moore Institute - ECPv4.6.1//NONSGML v1.0//EN
CALSCALE:GREGORIAN
METHOD:PUBLISH
X-WR-CALNAME:Moore Institute
X-ORIGINAL-URL:http://mooreinstitute.ie
X-WR-CALDESC:Events for Moore Institute
BEGIN:VEVENT
DTSTART;VALUE=DATE:20170504
DTEND;VALUE=DATE:20170507
DTSTAMP:20171031T053925
CREATED:20170411T122008Z
LAST-MODIFIED:20170411T125336Z
UID:4165-1493856000-1494115199@mooreinstitute.ie
SUMMARY:“Journeys”  Conference of the Irish Association for Russian\, Central and East European Studies
DESCRIPTION:On the occasion of the centenary of the Russian Revolution\, the Moore Institute is delighted to host the annual conference of the Irish Association for Russian\, Central and East European Studies. Taking its inspiration from Lenin’s fateful journey to Petrograd one hundred years ago\, the theme of this year’s conference is ‘journeys’. Papers deal with journeys into\, out of and across the vast region that spans from Prague in central Europe to Vladivostok in eastern Asia. Participants offer perspectives from several different disciplines\, including literature\, history and politics. The event is funded by the President’s Office\, the School of Humanities\, the Discipline of History and Fáilte Ireland. \nYou can check out more details on our website here: http://www.iarcees.org/upcoming.php \n \n \n
URL:http://mooreinstitute.ie/event/journeys-conference-irish-association-russian-central-east-european-studies/
ORGANIZER;CN="R%C3%B3is%C3%ADn%20Healy":MAILTO:roisin.healy@nuigalway.ie
END:VEVENT
END:VCALENDAR