BEGIN:VCALENDAR
VERSION:2.0
PRODID:-//Moore Institute - ECPv4.6.1//NONSGML v1.0//EN
CALSCALE:GREGORIAN
METHOD:PUBLISH
X-WR-CALNAME:Moore Institute
X-ORIGINAL-URL:http://mooreinstitute.ie
X-WR-CALDESC:Events for Moore Institute
BEGIN:VEVENT
DTSTART;TZID=UTC+0:20151001T160000
DTEND;TZID=UTC+0:20151001T160000
DTSTAMP:20171103T034418
CREATED:20160824T144654Z
LAST-MODIFIED:20160824T144654Z
UID:1984-1443715200-1443715200@mooreinstitute.ie
SUMMARY:Irish Centre for the Histories of Labour and Class Seminar Series - Thomas Piketty- wealth and income inequality - Terrence McDonough (NUIG) and Cian McMahon (NUIG)
DESCRIPTION:Irish Centre for the Histories of Labour and Class Seminar Series\nTheme: Thomas Piketty – wealth and income inequality\nTerrence McDonough (NUIG) and Cian McMahon (NUIG)\nFor more information please contact jamesthomasodonnell@gmail.com \n
URL:http://mooreinstitute.ie/event/irish-centre-for-the-histories-of-labour-and-class-seminar-series-thomas-piketty-wealth-and-income-inequality-terrence-mcdonough-nuig-and-cian-mcmahon-nuig/
END:VEVENT
END:VCALENDAR