BEGIN:VCALENDAR
VERSION:2.0
PRODID:-//Moore Institute - ECPv4.6.1//NONSGML v1.0//EN
CALSCALE:GREGORIAN
METHOD:PUBLISH
X-WR-CALNAME:Moore Institute
X-ORIGINAL-URL:http://mooreinstitute.ie
X-WR-CALDESC:Events for Moore Institute
BEGIN:VEVENT
DTSTART;TZID=UTC+0:20150930T160000
DTEND;TZID=UTC+0:20150930T160000
DTSTAMP:20171103T034332
CREATED:20160824T144655Z
LAST-MODIFIED:20160824T144655Z
UID:2002-1443628800-1443628800@mooreinstitute.ie
SUMMARY:History Graduate Research Seminar Series: Raingard Esser\, 'Local Baronios' in a contested border region: history\, hagiography and politics in Upper Guelders in the seventeenth century.
DESCRIPTION:History Graduate Research Seminar Series\nRaingard Esser\,\n“Local Baronios” in a contested border region: history\, hagiography and politics in Upper Guelders in the seventeenth century.\nTo be followed by book launch.\nfor more information please contact caitriona.clear@nuigalway.ie  \n
URL:http://mooreinstitute.ie/event/history-graduate-research-seminar-series-raingard-esser-local-baronios-in-a-contested-border-region-history-hagiography-and-politics-in-upper-guelders-in-the-seventeenth-century/
END:VEVENT
END:VCALENDAR