BEGIN:VCALENDAR
VERSION:2.0
PRODID:-//Moore Institute - ECPv4.6.1//NONSGML v1.0//EN
CALSCALE:GREGORIAN
METHOD:PUBLISH
X-WR-CALNAME:Moore Institute
X-ORIGINAL-URL:http://mooreinstitute.ie
X-WR-CALDESC:Events for Moore Institute
BEGIN:VEVENT
DTSTART;TZID=UTC+0:20151016T120000
DTEND;TZID=UTC+0:20151016T120000
DTSTAMP:20171103T035110
CREATED:20160824T144656Z
LAST-MODIFIED:20160824T144656Z
UID:2013-1444996800-1444996800@mooreinstitute.ie
SUMMARY:CAMPS Labs: Romanas Bulatovas (Old & Middle Irish & Celtic Studies\, NUIG) - Early Bronze and Inflation under the Roman Republic'
DESCRIPTION:Romanas Bulatovas (Old & Middle Irish & Celtic Studies\, NUIG) \n‘Early Bronze and Inflation under the Roman Republic’ \nFollowed by discussion & light lunch\nEveryone welcome – FÌÁilte roimh chÌÁch\nFor more information please contact mairin.nidhonnchadha@nuigalway.ie \n
URL:http://mooreinstitute.ie/event/camps-labs-romanas-bulatovas-old-middle-irish-celtic-studies-nuig-early-bronze-and-inflation-under-the-roman-republic/
END:VEVENT
END:VCALENDAR